Workbook

Sheet จำนวน 2568
A1: จำนวนนักเรียน ปีการศึกษา 2568 | M1: จำนวน | N1: =N48 -> 900
B3: คณะสี | C3: ครู ก | D3: ครู ข | E3: ชาย | F3: หญิง | G3: รวม
A4: ม.1/1 | B4: ราชาวิดี | C4: ปัทมา | E4: ='รายชื่อ 2568'!K2 -> 8 | F4: ='รายชื่อ 2568'!O2 -> 21 | G4: =SUM(E4:F4) -> 29
A5: ม.1/2 | B5: ศรีตรัง | C5: ศรีนวลจันทร์ | D5: วันวิสาข์ | E5: ='รายชื่อ 2568'!AC2 -> 18 | F5: ='รายชื่อ 2568'!AH2 -> 14 | G5: =SUM(E5:F5) -> 32
A6: ม.1/3 | B6: กรรณิการ์ | C6: ประภัสสร | D6: อรวรรณ | E6: ='รายชื่อ 2568'!AU2 -> 16 | F6: ='รายชื่อ 2568'!AZ2 -> 15 | G6: =SUM(E6:F6) -> 31
A7: ม.1/4 | B7: กรรณิการ์ | C7: สมพร | D7: ศุภนิดา | E7: ='รายชื่อ 2568'!BM2 -> 20 | F7: ='รายชื่อ 2568'!BQ2 -> 12 | G7: =SUM(E7:F7) -> 32
A8: ม.1/5 | B8: มะลิวัลย์ | C8: เมธินทร์ | E8: ='รายชื่อ 2568'!CE2 -> 19 | F8: ='รายชื่อ 2568'!CI2 -> 13 | G8: =SUM(E8:F8) -> 32
D9: รวม | E9: =SUM(E4:E8) -> 81 | F9: =SUM(F4:F8) -> 75 | G9: =SUM(G4:G8) -> 156
A11: ม.2/1 | B11: ศรีตรัง | C11: กฤษณะ | E11: ='รายชื่อ 2568'!K44 -> 8 | F11: ='รายชื่อ 2568'!O44 -> 21 | G11: =SUM(E11:F11) -> 29
A12: ม.2/2 | B12: มะลิวัลย์ | C12: ชลนภา | D12: ดนุชศาสตร์ | E12: ='รายชื่อ 2568'!AC44 -> 17 | F12: ='รายชื่อ 2568'!AH44 -> 16 | G12: =SUM(E12:F12) -> 33
A13: ม.2/3 | B13: กรรณิการ์ | C13: สายธาร | D13: เพ็ญนภา | E13: ='รายชื่อ 2568'!AU44 -> 14 | F13: ='รายชื่อ 2568'!AZ44 -> 18 | G13: =SUM(E13:F13) -> 32
A14: ม.2/4 | B14: ราชาวดี | C14: อดิพงษ์ | D14: ศินีนาฏ | E14: ='รายชื่อ 2568'!BM44 -> 17 | F14: ='รายชื่อ 2568'!BQ44 -> 16 | G14: =SUM(E14:F14) -> 33
A15: ม.2/5 | B15: ราชาวดี | C15: ธนวัฒน์ | D15: นลิน | E15: ='รายชื่อ 2568'!CE44 -> 15 | F15: ='รายชื่อ 2568'!CI44 -> 16 | G15: =SUM(E15:F15) -> 31
D16: รวม | E16: =SUM(E11:E15) -> 71 | F16: =SUM(F11:F15) -> 87 | G16: =SUM(G11:G15) -> 158
A18: ม.3/1 | B18: กรรณิการ์ | C18: ปิยะฉัตร | D18: สุวิมล | E18: ='รายชื่อ 2568'!K84 -> 9 | F18: ='รายชื่อ 2568'!O84 -> 20 | G18: =SUM(E18:F18) -> 29
A19: ม.3/2 | B19: มะลิวัลย์ | C19: อ้อย | D19: นงค์นุช | E19: ='รายชื่อ 2568'!AC84 -> 16 | F19: ='รายชื่อ 2568'!AH84 -> 25 | G19: =SUM(E19:F19) -> 41
A20: ม.3/3 | B20: ราชาวดี | C20: รินทร์ลภัส | D20: นันทวรรณ | E20: ='รายชื่อ 2568'!AU84 -> 20 | F20: ='รายชื่อ 2568'!AZ84 -> 16 | G20: =SUM(E20:F20) -> 36
A21: ม.3/4 | B21: ศรีตรัง | C21: จริษา | D21: ธัญพร | E21: ='รายชื่อ 2568'!BM84 -> 18 | F21: ='รายชื่อ 2568'!BQ84 -> 24 | G21: =SUM(E21:F21) -> 42
D22: รวม | E22: =SUM(E18:E21) -> 63 | F22: =SUM(F18:F21) -> 85 | G22: =SUM(G18:G21) -> 148
A24: ม.4/1 | B24: มะลิวัลย์ | C24: วิไล | E24: ='รายชื่อ 2568'!K133 -> 5 | F24: ='รายชื่อ 2568'!O133 -> 21 | G24: =SUM(E24:F24) -> 26
A25: ม.4/2 | B25: ศรีตรัง | C25: ชยุดา | D25: ชัชชัย | E25: ='รายชื่อ 2568'!AA133 -> 5 | F25: ='รายชื่อ 2568'!AG133 -> 23 | G25: =SUM(E25:F25) -> 28
A26: ม.4/3 | B26: กรรณิการ์ | C26: ประเดิม | D26: ธิดามาศ | E26: ='รายชื่อ 2568'!AU133 -> 10 | F26: ='รายชื่อ 2568'!AY133 -> 17 | G26: =SUM(E26:F26) -> 27
A27: ม.4/4 | B27: มะลิวัลย์ | C27: พงศ์ศักดิ์ | E27: ='รายชื่อ 2568'!BK133 -> 21 | F27: ='รายชื่อ 2568'!BQ133 -> 6 | G27: =SUM(E27:F27) -> 27
A28: ม.4/5 | B28: ราชาวดี | C28: จิตนา | E28: ='รายชื่อ 2568'!CE133 -> 13 | F28: ='รายชื่อ 2568'!CI133 -> 11 | G28: =SUM(E28:F28) -> 24
A29: ม.4/6 | B29: มะลิวัลย์ | C29: วชิราพรรณ | E29: ='รายชื่อ 2568'!CW133 -> 0 | F29: ='รายชื่อ 2568'!DA133 -> 3 | G29: =SUM(E29:F29) -> 3
D30: รวม | E30: =SUM(E24:E29) -> 54 | F30: =SUM(F24:F29) -> 81 | G30: =SUM(G24:G29) -> 135
A32: ม.5/1 | B32: กรรณิการ์ | C32: ปุณยวีร์ | D32: เสาวคนธ์ | E32: ='รายชื่อ 2568'!K171 -> 9 | F32: ='รายชื่อ 2568'!O171 -> 18 | G32: =SUM(E32:F32) -> 27
A33: ม.5/2 | B33: ราชาวดี | C33: พิมพ์พรรณ | D33: นันทวัน | E33: ='รายชื่อ 2568'!AA171 -> 10 | F33: ='รายชื่อ 2568'!AG171 -> 23 | G33: =SUM(E33:F33) -> 33
A34: ม.5/3 | B34: มะลิวัลย์ | C34: จุฑารัตน์ | D34: ภิญญาพัชญ์ | E34: ='รายชื่อ 2568'!AU171 -> 12 | F34: ='รายชื่อ 2568'!AY171 -> 23 | G34: =SUM(E34:F34) -> 35
A35: ม.5/4 | B35: ศรีตรัง | C35: นัฐภรณ์ | E35: ='รายชื่อ 2568'!BM171 -> 4 | F35: ='รายชื่อ 2568'!BQ171 -> 1 | G35: =SUM(E35:F35) -> 5
A36: ม.5/5 | B36: ศรีตรัง | C36: วรพจน์ | D36: จิราวุฒิ | E36: ='รายชื่อ 2568'!CE171 -> 23 | F36: ='รายชื่อ 2568'!CI171 -> 12 | G36: =SUM(E36:F36) -> 35
D37: รวม | E37: =SUM(E32:E36) -> 58 | F37: =SUM(F32:F36) -> 77 | G37: =SUM(G32:G36) -> 135
A39: ม.6/1 | B39: ศรีตรัง | C39: ชนิดา | E39: ='รายชื่อ 2568'!K217 -> 6 | F39: ='รายชื่อ 2568'!O217 -> 16 | G39: =SUM(E39:F39) -> 22
A40: ม.6/2 | B40: กรรณิการ์ | C40: ชฎาพร | D40: จิราภรณ์ | E40: ='รายชื่อ 2568'!AC217 -> 11 | F40: ='รายชื่อ 2568'!AG217 -> 23 | G40: =SUM(E40:F40) -> 34
A41: ม.6/3 | B41: ราชาวดี | C41: ฐิตาภา | E41: ='รายชื่อ 2568'!AU217 -> 6 | F41: ='รายชื่อ 2568'!AY217 -> 25 | G41: =SUM(E41:F41) -> 31
A42: ม.6/4 | B42: กรรณิการ์ | C42: ฉัตราภรณ์ | D42: ธีรนุช | E42: ='รายชื่อ 2568'!BM217 -> 14 | F42: ='รายชื่อ 2568'!BQ217 -> 17 | G42: =SUM(E42:F42) -> 31
A43: ม.6/5 | B43: มะลิวัลย์ | C43: ณภัสรพี | D43: นลิน | E43: ='รายชื่อ 2568'!CE217 -> 14 | F43: ='รายชื่อ 2568'!CI217 -> 10 | G43: =SUM(E43:F43) -> 24
A44: ม.6/6 | B44: ศรีตรัง | C44: พัชรีพร | E44: ='รายชื่อ 2568'!CW217 -> 5 | F44: ='รายชื่อ 2568'!DA217 -> 21 | G44: =SUM(E44:F44) -> 26
D45: รวม | E45: =SUM(E39:E44) -> 56 | F45: =SUM(F39:F44) -> 112 | G45: =SUM(G39:G44) -> 168
A47: จำนวน นร. | B47: ชาย | C47: หญิง | D47: รวม | F47: จำนวน นร. | G47: ชาย | H47: หญิง | I47: รวม | K47: จำนวน นร. | L47: ชาย | M47: หญิง | N47: รวม
...

Sheet รายชื่อ 2568
A1: รายชื่อนักเรียนโรงเรียนมหิศราธิบดี ชั้นมัธยมศึกษาปีที่ 1/1 ปีการศึกษา 2568 | S1: รายชื่อนักเรียนโรงเรียนมหิศราธิบดี ชั้นมัธยมศึกษาปีที่ 1/2 ปีการศึกษา 2568 | AK1: รายชื่อนักเรียนโรงเรียนมหิศราธิบดี ชั้นมัธยมศึกษาปีที่ 1/3 ปีการศึกษา 2568 | BC1: รายชื่อนักเรียนโรงเรียนมหิศราธิบดี ชั้นมัธยมศึกษาปีที่ 1/4 ปีการศึกษา 2568 | BU1: รายชื่อนักเรียนโรงเรียนมหิศราธิบดี ชั้นมัธยมศึกษาปีที่ 1/5 ปีการศึกษา 2568
B2: คณะสี | C2: ราชาวดี | D2: จำนวนนักเรียน | E2: รวม | F2: 29 | G2: คน | J2: ชาย | K2: 8 | L2: คน | N2: หญิง | O2: =F2-K2 -> 21 | P2: คน | T2: คณะสี | U2: ศรีตรัง | V2: จำนวนนักเรียน | W2: รวม | X2: 32 | Y2: คน | AB2: ชาย | AC2: 18 | AD2: คน | AG2: หญิง | AH2: =SUM(X2-AC2) -> 14 | AI2: คน | AL2: คณะสี | AM2: กรรณิการ์ | AN2: จำนวนนักเรียน | AO2: รวม | AP2: 31 | AQ2: คน | AT2: ชาย | AU2: 16 | AV2: คน | AY2: หญิง | AZ2: =SUM(AP2-AU2) -> 15 | BA2: คน | BD2: คณะสี | BE2: กรรณิการ์ | BF2: จำนวนนักเรียน | BG2: รวม | BH2: 32 | BI2: คน | BL2: ชาย | BM2: 20 | BN2: คน | BP2: หญิง | BQ2: =SUM(BH2-BM2) -> 12 | BR2: คน | BV2: คณะสี | BW2: มะลิวัลย์ | BX2: จำนวนนักเรียน | BY2: รวม | BZ2: 32 | CA2: คน | CD2: ชาย | CE2: 19 | CF2: คน | CH2: หญิง | CI2: =SUM(BZ2-CE2) -> 13 | CJ2: คน | CN2: รหัสเริ่ม | CO2: 16412
B3: ครูที่ปรึกษา | C3: ก. | D3: ครูปัทมา ส่งสุข | E3: ข. | T3: ครูที่ปรึกษา | U3: ก. | V3: ครูศรีนวลจันทร์ คงฟัก | W3: ข. | X3: ครูวันวิสาข์ กลึงกลางดอน | AL3: ครูที่ปรึกษา | AM3: ก. | AN3: ครูปภัสสร ภูมินา | AO3: ข. | AP3: ครูอรวรรณ ปรางค์โบราณนอก | BD3: ครูที่ปรึกษา | BE3: ก. | BF3: ครูสมพร ยิ่งโสภา | BG3: ข. | BH3: ครูศุภนิดา ศุภสุข | BV3: ครูที่ปรึกษา | BW3: ก. | BX3: ครูเมธินทร์ ประสิทธิ์นอก
A4: เลข | B4: เลข ปจต. | D4: ชื่อ - สกุล | S4: เลข | T4: เลข ปจต. | V4: ชื่อ - สกุล | AK4: เลข | AL4: เลข ปจต. | AN4: ชื่อ - สกุล | BC4: เลข | BD4: เลข ปจต. | BF4: ชื่อ - สกุล | BU4: เลข | BV4: เลข ปจต. | BX4: ชื่อ - สกุล | CN4: เลขว่าง
A5: ที่ | B5: นักเรียน | S5: ที่ | T5: นักเรียน | AK5: ที่ | AL5: นักเรียน | BC5: ที่ | BD5: นักเรียน | BU5: ที่ | BV5: นักเรียน
A6: 1 | B6: 1030101004 | C6: 16191 | D6: เด็กชายกิตติพงษ์ ทิมอ่อน | S6: 1 | T6: 1030101004 | U6: 16199 | V6: เด็กชายกนกพล แสนพงษ์ | AK6: 1 | AL6: 1030101004 | AM6: 16217 | AN6: เด็กชายณัฐกร โสพิมพ์ | BC6: 1 | BD6: 1030101004 | BE6: 16233 | BF6: เด็กชายกรภัทร์ ลิ้มกลาง | BU6: 1 | BV6: 1030101004 | BW6: 16253 | BX6: เด็กชายกวิน โยธา
A7: 2 | B7: 1030101004 | C7: 16192 | D7: เด็กชายจักรพัส คุดขุนทด | S7: 2 | T7: 1030101004 | U7: 16200 | V7: เด็กชายกิตติศักดิ์ ศรีทะวงษ์ | AK7: 2 | AL7: 1030101004 | AM7: 16218 | AN7: เด็กชายเดชาวัต ฉ่ำจอหอ | BC7: 2 | BD7: 1030101004 | BE7: 16234 | BF7: เด็กชายกรรชัย แถมโพธิ์ | BU7: 2 | BV7: 1030101004 | BW7: 16254 | BX7: เด็กชายกิตติทัต สุขไม้
A8: 3 | B8: 1030101004 | C8: 16193 | D8: เด็กชายชญานน หมายดี | S8: 3 | T8: 1030101004 | U8: 16201 | V8: เด็กชายคุณภัทร สุทันรัมย์ | AK8: 3 | AL8: 1030101004 | AM8: 16219 | AN8: เด็กชายธีรทร ตับกลาง | BC8: 3 | BD8: 1030101004 | BE8: 16235 | BF8: เด็กชายกลธีร์ จูงกลาง | BU8: 3 | BV8: 1030101004 | BW8: 16255 | BX8: เด็กชายชัยพัฒน์ วังกลาง
A9: 4 | B9: 1030101004 | C9: 16194 | D9: เด็กชายปรมัตถ์ รัตนยงค์ | S9: 4 | T9: 1030101004 | U9: 16202 | V9: เด็กชายฉัตรภูมิ ผ่านกลาง | AK9: 4 | AL9: 1030101004 | AM9: 16220 | AN9: เด็กชายธีรภัทร แก้วระวัง | BC9: 4 | BD9: 1030101004 | BE9: 16236 | BF9: เด็กชายดนัยณัฎฐ์ มะไสไธสง | BU9: 4 | BV9: 1030101004 | BW9: 16256 | BX9: เด็กชายณัฐสิทธิ์ สุวรรณชาติ
A10: 5 | B10: 1030101004 | C10: 16195 | D10: เด็กชายปุญญพัฒน์ ลี้ภัย | S10: 5 | T10: 1030101004 | U10: 16203 | V10: เด็กชายโชคอนันต์ ศรีทรัพย์ | AK10: 5 | AL10: 1030101004 | AM10: 16221 | AN10: เด็กชายนราธิป เที่ยวกลาง | BC10: 5 | BD10: 1030101004 | BE10: 16237 | BF10: เด็กชายดุสิต กิ่งโพธิ์ | BU10: 5 | BV10: 1030101004 | BW10: 16257 | BX10: เด็กชายทีปกร ริมสันเทียะ
A11: 6 | B11: 1030101004 | C11: 16196 | D11: เด็กชายภาณุพงศ์ พ้องงูเหลือม | S11: 6 | T11: 1030101004 | U11: 16204 | V11: เด็กชายณฤภัทร ด้วงวงศ์ | AK11: 6 | AL11: 1030101004 | AM11: 16222 | AN11: เด็กชายปิติภัทร อินทร์จอหอ | BC11: 6 | BD11: 1030101004 | BE11: 16238 | BF11: เด็กชายทีปกร เชาว์โคกสูง | BU11: 6 | BV11: 1030101004 | BW11: 16258 | BX11: เด็กชายธนกฤต ก้อนโพธิ์
A12: 7 | B12: 1030101004 | C12: 16197 | D12: เด็กชายสรรพสิริ สังขารีย์ | S12: 7 | T12: 1030101004 | U12: 16205 | V12: เด็กชายณัฐกิตติ์ ขำโพธิ์ | AK12: 7 | AL12: 1030101004 | AM12: 16223 | AN12: เด็กชายพรรณษา คงฤทธิ์ | BC12: 7 | BD12: 1030101004 | BE12: 16239 | BF12: เด็กชายธนโชติ มงคลสำโรง | BU12: 7 | BV12: 1030101004 | BW12: 16259 | BX12: เด็กชายนรภัทร มากกลาง
A13: 8 | B13: 1030101004 | C13: 16198 | D13: เด็กชายอภิชาติ เลิศสันเทียะ | S13: 8 | T13: 1030101004 | U13: 16206 | V13: เด็กชายณัฐกิตติ์ ผิวทอง | AK13: 8 | AL13: 1030101004 | AM13: 16224 | AN13: เด็กชายพัชรพล พูนกลาง | BC13: 8 | BD13: 1030101004 | BE13: 16240 | BF13: เด็กชายปฐพี คำแสง | BU13: 8 | BV13: 1030101004 | BW13: 16260 | BX13: เด็กชายปธานิน บุญตา
A14: 9 | B14: 1030101004 | C14: 16271 | D14: เด็กหญิงกัญญานัฐ จุ่นทองหลาง | S14: 9 | T14: 1030101004 | U14: 16207 | V14: เด็กชายณัฐดนัย เตียงกูล | AK14: 9 | AL14: 1030101004 | AM14: 16225 | AN14: เด็กชายพีรณัฐ วัฒนวิชัย | BC14: 9 | BD14: 1030101004 | BE14: 16241 | BF14: เด็กชายปฐพี มุ่งภู่กลาง | BU14: 9 | BV14: 1030101004 | BW14: 16261 | BX14: เด็กชายปวเรศ สังขารี
A15: 10 | B15: 1030101004 | C15: 16272 | D15: เด็กหญิงกัลยวีร์ วงษ์จิรเจริญ | S15: 10 | T15: 1030101004 | U15: 16208 | V15: เด็กชายทักษ์ดนัย เลี่ยมงูเหลือม | AK15: 10 | AL15: 1030101004 | AM15: 16227 | AN15: เด็กชายภูกมล ทิมสันเทียะ | BC15: 10 | BD15: 1030101004 | BE15: 16242 | BF15: เด็กชายพงศกร ทันบาล | BU15: 10 | BV15: 1030101004 | BW15: 16262 | BX15: เด็กชายปัญญาวี ศรีจัตุรัส
A16: 11 | B16: 1030101004 | C16: 16273 | D16: เด็กหญิงกานต์พิชชา โพธิ์เขมวัช | S16: 11 | T16: 1030101004 | U16: 16209 | V16: เด็กชายนันทพงศ์ วงศ์พันธ์ | AK16: 11 | AL16: 1030101004 | AM16: 16228 | AN16: เด็กชายรัตน์ชานนท์ โสนกลาง | BC16: 11 | BD16: 1030101004 | BE16: 16243 | BF16: เด็กชายพิชชากร แร่สันเทียะ | BU16: 11 | BV16: 1030101004 | BW16: 16263 | BX16: เด็กชายพงศกร แทวกระโทก
A17: 12 | B17: 1030101004 | C17: 16274 | D17: เด็กหญิงจารุวรรณ คร่ำสุข | S17: 12 | T17: 1030101004 | U17: 16210 | V17: เด็กชายปุณณวิช ยางสูง | AK17: 12 | AL17: 1030101004 | AM17: 16229 | AN17: เด็กชายศศิกร ไชยมี | BC17: 12 | BD17: 1030101004 | BE17: 16244 | BF17: เด็กชายพีรวัฒน์ สีทา | BU17: 12 | BV17: 1030101004 | BW17: 16264 | BX17: เด็กชายพรมนัส เต้ากลาง
A18: 13 | B18: 1030101004 | C18: 16275 | D18: เด็กหญิงจิดาภา สมัครการ | S18: 13 | T18: 1030101004 | U18: 16211 | V18: เด็กชายเผดิมผล พูนน้อย | AK18: 13 | AL18: 1030101004 | AM18: 16230 | AN18: เด็กชายสรวิศ ภูวงษ์ | BC18: 13 | BD18: 1030101004 | BE18: 16245 | BF18: เด็กชายภูสิทธิ์ สุพรรณกลาง | BU18: 13 | BV18: 1030101004 | BW18: 16265 | BX18: เด็กชายมนัญชัย ณ นคร
A19: 14 | B19: 1030101004 | C19: 16276 | D19: เด็กหญิงชลธิชา ธุระสุข | S19: 14 | T19: 1030101004 | U19: 16212 | V19: เด็กชายพีระพงษ์ เกล็ดงูเหลือม | AK19: 14 | AL19: 1030101004 | AM19: 16231 | AN19: เด็กชายสุทธิศักดิ์ จันทร์ทอง | BC19: 14 | BD19: 1030101004 | BE19: 16246 | BF19: เด็กชายยศวรรทน์ เนื้อนา | BU19: 14 | BV19: 1030101004 | BW19: 16266 | BX19: เด็กชายเมธาวี งามแสง
A20: 15 | B20: 1030101004 | C20: 16277 | D20: เด็กหญิงชวิณนุช พื้นเกาะ | S20: 15 | T20: 1030101004 | U20: 16213 | V20: เด็กชายรัชชานนท์ เทศกระโทก | AK20: 15 | AL20: 1030101004 | AM20: 16232 | AN20: เด็กชายอนุวัฒน์ ตล่อมกลาง | BC20: 15 | BD20: 1030101004 | BE20: 16247 | BF20: เด็กชายวรโชติ พวงเกาะ | BU20: 15 | BV20: 1030101004 | BW20: 16267 | BX20: เด็กชายเมศวรา พรรัมย์
A21: 16 | B21: 1030101004 | C21: 16278 | D21: เด็กหญิงญาณิน พันธุ์สาย | S21: 16 | T21: 1030101004 | U21: 16214 | V21: เด็กชายศรีวิชัย จะนันท์ | AK21: 16 | AL21: 1030101004 | AM21: 16396 | AN21: เด็กชายธนพัฒน์ ครุฑขุนทด | BC21: 16 | BD21: 1030101004 | BE21: 16248 | BF21: เด็กชายวริศ ไนย์พรม | BU21: 16 | BV21: 1030101004 | BW21: 16268 | BX21: เด็กชายศศิเดช วิเชียรชัย
A22: 17 | B22: 1030101004 | C22: 16279 | D22: เด็กหญิงธนัฏฐา บัวกลาง | S22: 17 | T22: 1030101004 | U22: 16215 | V22: เด็กชายศิวายุ อาจอินทร์ | AK22: 17 | AL22: 1030101004 | AM22: 16307 | AN22: เด็กหญิงกมลเนตร ภักดีจอหอ | BC22: 17 | BD22: 1030101004 | BE22: 16249 | BF22: เด็กชายวัชรพัฒน์ งามศิลป์ | BU22: 17 | BV22: 1030101004 | BW22: 16269 | BX22: เด็กชายเสกสรรค์ ถิ่นโพธิ์
A23: 18 | B23: 1030101004 | C23: 16280 | D23: เด็กหญิงธัญพิชชา ถมโพธิ์ | S23: 18 | T23: 1030101004 | U23: 16216 | V23: เด็กชายศุภณัฐ ญวนแม | AK23: 18 | AL23: 1030101004 | AM23: 16308 | AN23: เด็กหญิงเกวลี หรคุณ | BC23: 18 | BD23: 1030101004 | BE23: 16250 | BF23: เด็กชายวีรกานต์ พันธ์โพธิ์ | BU23: 18 | BV23: 1030101004 | BW23: 16270 | BX23: เด็กชายอภิชาติ เลิศสันเทียะ
A24: 19 | B24: 1030101004 | C24: 16281 | D24: เด็กหญิงนวรัตน์ ยุทธรรม | S24: 19 | T24: 1030101004 | U24: 16293 | V24: เด็กหญิงกมลชนก พันชาลี | AK24: 19 | AL24: 1030101004 | AM24: 16310 | AN24: เด็กหญิงฐิตาภา พระวิวัน | BC24: 19 | BD24: 1030101004 | BE24: 16251 | BF24: เด็กชายวีรศักดิ์ ปราณี | BU24: 19 | BV24: 1030101004 | BW24: 16289 | BX24: เด็กชายภคพล จำลองศุภลักษณ์
A25: 20 | B25: 1030101004 | C25: 16282 | D25: เด็กหญิงปภาวรินทร์ ขุ่มด้วง | S25: 20 | T25: 1030101004 | U25: 16294 | V25: เด็กหญิงกวินธิดา เอียการนา | AK25: 20 | AL25: 1030101004 | AM25: 16311 | AN25: เด็กหญิงฐิติกาญจน์ จำปาโพธิ์ | BC25: 20 | BD25: 1030101004 | BE25: 16252 | BF25: เด็กชายอนันทนา สุวรรณทา | BU25: 20 | BV25: 1030101004 | BW25: 16335 | BX25: เด็กหญิงกลมชนก บีพิมาย
A26: 21 | B26: 1030101004 | C26: 16283 | D26: เด็กหญิงพิชชาอร เสดโคกสูง | S26: 21 | T26: 1030101004 | U26: 16295 | V26: เด็กหญิงกัลยาภัทร พรเพ็ชร | AK26: 21 | AL26: 1030101004 | AM26: 16312 | AN26: เด็กหญิงณัฐธิดา บำรุงเกาะ | BC26: 21 | BD26: 1030101004 | BE26: 16323 | BF26: เด็กหญิงกัญญาภัทร หากระวี | BU26: 21 | BV26: 1030101004 | BW26: 16336 | BX26: เด็กหญิงกัลยกรณ์ พรมภักดี
A27: 22 | B27: 1030101004 | C27: 16284 | D27: เด็กหญิงพิชญาภัค ช่วยงาน | S27: 22 | T27: 1030101004 | U27: 16296 | V27: เด็กหญิงชนกานต์ ทองรักษ์ | AK27: 22 | AL27: 1030101004 | AM27: 16313 | AN27: เด็กหญิงทิพรดา ฟุ้งกลาง | BC27: 22 | BD27: 1030101004 | BE27: 16324 | BF27: เด็กหญิงกิ่งกาญจน์ เชยโพธิ์ | BU27: 22 | BV27: 1030101004 | BW27: 16337 | BX27: เด็กหญิงจินดารัตน์ ซื่อเสมอ
A28: 23 | B28: 1030101004 | C28: 16285 | D28: เด็กหญิงรัตน์เกล้า เปรมนอก | S28: 23 | T28: 1030101004 | U28: 16297 | V28: เด็กหญิงชัชฎาภรณ์ เกลาโพธิ์ | AK28: 23 | AL28: 1030101004 | AM28: 16314 | AN28: เด็กหญิงธัญญารัตน์ หลาบกลาง | BC28: 23 | BD28: 1030101004 | BE28: 16325 | BF28: เด็กหญิงชุติมา วรรณทรัพย์ | BU28: 23 | BV28: 1030101004 | BW28: 16338 | BX28: เด็กหญิงณัฐธิชา จากโคกสูง
A29: 24 | B29: 1030101004 | C29: 16286 | D29: เด็กหญิงลิลลดา เข้ากล้า | S29: 24 | T29: 1030101004 | U29: 16298 | V29: เด็กหญิงณัฐนิชา แสนยศ | AK29: 24 | AL29: 1030101004 | AM29: 16315 | AN29: เด็กหญิงนิชานันท์ ผัดโพธิ์ | BC29: 24 | BD29: 1030101004 | BE29: 16326 | BF29: เด็กหญิงนันทนัท ไพลกลาง | BU29: 24 | BV29: 1030101004 | BW29: 16339 | BX29: เด็กหญิงณิชชยา มงคลชู
A30: 25 | B30: 1030101004 | C30: 16287 | D30: เด็กหญิงศฏายุรัช ทันเฉลิม | S30: 25 | T30: 1030101004 | U30: 16299 | V30: เด็กหญิงปิยะกมล ชาติไทย | AK30: 25 | AL30: 1030101004 | AM30: 16316 | AN30: เด็กหญิงประพัสรา เสนกลาง | BC30: 25 | BD30: 1030101004 | BE30: 16327 | BF30: เด็กหญิงปมณฑ์ชนัส ฉัตรเฉลิม | BU30: 25 | BV30: 1030101004 | BW30: 16340 | BX30: เด็กหญิงทิพปภา งามโพธิ์
... A34: 29 | B34: 1030101004 | C34: 16411 | D34: เด็กหญิงสุภัทรา ปั้นโพธิ์ | S34: 29 | T34: 1030101004 | U34: 16303 | V34: เด็กหญิงมนรดา ปิ่นกลาง | AK34: 29 | AL34: 1030101004 | AM34: 16320 | AN34: เด็กหญิงภัทรศญา ประกอบกิจ | BC34: 29 | BD34: 1030101004 | BE34: 16331 | BF34: เด็กหญิงวรารี โจมกลาง | BU34: 29 | BV34: 1030101004 | BW34: 16344 | BX34: เด็กหญิงลักษิกา บาตรโพธิ์
S35: 30 | T35: 1030101004 | U35: 16304 | V35: เด็กหญิงรุจีรัตน์ ทองคำ | AK35: 30 | AL35: 1030101004 | AM35: 16321 | AN35: เด็กหญิงวรัญญา จำปาโพธิ์ | BC35: 30 | BD35: 1030101004 | BE35: 16332 | BF35: เด็กหญิงสุพรรณิชา จีบโพธิ์ | BU35: 30 | BV35: 1030101004 | BW35: 16345 | BX35: เด็กหญิงศิรินันท์ เติมศักดิ์
S36: 31 | T36: 1030101004 | U36: 16305 | V36: เด็กหญิงลัลลิลล์ พรรณสาลี้ | AK36: 31 | AL36: 1030101004 | AM36: 16322 | AN36: เด็กหญิงอัญฐิษา ธรรมจอหอ | BC36: 31 | BD36: 1030101004 | BE36: 16333 | BF36: เด็กหญิงหนึ่งธิดา นามศักดิ์ | BU36: 31 | BV36: 1030101004 | BW36: 16346 | BX36: เด็กหญิงสุมินตรา เข็มทองหลาง
S37: 32 | T37: 1030101004 | U37: 16306 | V37: เด็กหญิงสุรัตน์ติกานต์ ทองสุข | BC37: 32 | BD37: 1030101004 | BE37: 16334 | BF37: เด็กหญิงอรณิษา สมกลาง | BU37: 32 | BV37: 1030101004 | BW37: 16347 | BX37: เด็กหญิงอรนลิน นันกลาง
A43: รายชื่อนักเรียนโรงเรียนมหิศราธิบดี ชั้นมัธยมศึกษาปีที่ 2/1 ปีการศึกษา 2568 | S43: รายชื่อนักเรียนโรงเรียนมหิศราธิบดี ชั้นมัธยมศึกษาปีที่ 2/2 ปีการศึกษา 2568 | AK43: รายชื่อนักเรียนโรงเรียนมหิศราธิบดี ชั้นมัธยมศึกษาปีที่ 2/3 ปีการศึกษา 2568 | BC43: รายชื่อนักเรียนโรงเรียนมหิศราธิบดี ชั้นมัธยมศึกษาปีที่ 2/4 ปีการศึกษา 2568 | BU43: รายชื่อนักเรียนโรงเรียนมหิศราธิบดี ชั้นมัธยมศึกษาปีที่ 2/5 ปีการศึกษา 2568
B44: คณะสี | C44: ศรีตรัง | D44: จำนวนนักเรียน | E44: รวม | F44: 29 | G44: คน | J44: ชาย | K44: 8 | L44: คน | N44: หญิง | O44: =F44-K44 -> 21 | P44: คน | T44: คณะสี | U44: มะลิวัลย์ | V44: จำนวนนักเรียน | W44: รวม | X44: 33 | Y44: คน | AB44: ชาย | AC44: 17 | AD44: คน | AG44: หญิง | AH44: =SUM(X44-AC44) -> 16 | AI44: คน | AL44: คณะสี | AM44: กรรณิการ์ | AN44: จำนวนนักเรียน | AO44: รวม | AP44: 32 | AQ44: คน | AT44: ชาย | AU44: 14 | AV44: คน | AY44: หญิง | AZ44: =SUM(AP44-AU44) -> 18 | BA44: คน | BD44: คณะสี | BE44: ราชาวดี | BF44: จำนวนนักเรียน | BG44: รวม | BH44: 33 | BI44: คน | BL44: ชาย | BM44: 17 | BN44: คน | BP44: หญิง | BQ44: =SUM(BH44-BM44) -> 16 | BR44: คน | BV44: คณะสี | BW44: ราชาวดี | BX44: จำนวนนักเรียน | BY44: รวม | BZ44: 31 | CA44: คน | CD44: ชาย | CE44: 15 | CF44: คน | CH44: หญิง | CI44: =SUM(BZ44-CE44) -> 16 | CJ44: คน
B45: ครูที่ปรึกษา | C45: ก. | D45: ครูกฤษณะ มิกขุนทด | E45: ข. | F45: ครูพรปวีณ์ ทนสระน้อย | T45: ครูที่ปรึกษา | U45: ก. | V45: ครูชลนภา คงคิด | W45: ข. | X45: ครูดนุชศาสตร์ ศรีพล | AL45: ครูที่ปรึกษา | AM45: ก. | AN45: ครูสายธาร หวังแอบกลาง | AO45: ข. | AP45: นางสาวเพ็ญนภา ใยงูเหลือม | BD45: ครูที่ปรึกษา | BE45: ก. | BF45: นายอดิพงษ์ เมฆกระโทก | BG45: ข. | BH45: ครูศินีนาฏ เสวะนา | BV45: ครูที่ปรึกษา | BW45: ก. | BX45: ครูธนวัฒน์ โทจันทร์ | BY45: ข. | BZ45: ครูนลิน วงศ์เครือญาติ
A46: เลข | B46: เลข ปจต. | D46: ชื่อ - สกุล | S46: เลข | T46: เลข ปจต. | V46: ชื่อ - สกุล | AK46: เลข | AL46: เลข ปจต. | AN46: ชื่อ - สกุล | BC46: เลข | BD46: เลข ปจต. | BF46: ชื่อ - สกุล | BU46: เลข | BV46: เลข ปจต. | BX46: ชื่อ - สกุล
A47: ที่ | B47: นักเรียน | S47: ที่ | T47: นักเรียน | AK47: ที่ | AL47: นักเรียน | BC47: ที่ | BD47: นักเรียน | BU47: ที่ | BV47: นักเรียน
A48: 1 | B48: 1030101004 | C48: 15943 | D48: เด็กชายฉัตรดนัย คุ้มกลาง | S48: 1 | T48: 1030101004 | U48: 15951 | V48: เด็กชายก้องภพ กิ่งกลาง | AK48: 1 | AL48: 1030101004 | AM48: 15961 | AN48: เด็กชายพรรษา วงศ์จันทร์ | BC48: 1 | BD48: 1030101004 | BE48: 15985 | BF48: เด็กชายกิตติกวิน เจริญ | BU48: 1 | BV48: 1030101004 | BW48: 16002 | BX48: เด็กชายกิตติพันธ์ ศรีโพธิ์
...

Sheet Sheet2
A1: ที่ | C1: ชื่อสกุล | D1: ชั้น | E1: สาเหตุ
A2: 1 | B2: 15692 | C2: เด็กชายณัฏฐกิตติ์ แสนสันเทียะ | D2: 2/1 | E2: ขาดเรียนนาน
A3: 2 | B3: 15739 | C3: เด็กชายวิวัฒชัย ปลั่งกลาง | D3: 2/3 | E3: ขาดเรียนนาน
A4: 1 | B4: 15477 | C4: นางสาวชลธิชา อานประโคน | D4: 4/2 | E4: ลาออก ไม่ศึกษาต่อ
A5: 2 | B5: 16175 | C5: นางสาวธันยธรณ์ แดงสม | D5: 4/2 | E5: ลาออก ไม่ศึกษาต่อ
A6: 3 | B6: 15339 | C6: นางสาวศศิชา ปลั่งกลาง | D6: 4/3 | E6: ลาออก ไม่ศึกษาต่อ
A7: 4 | B7: 15344 | C7: นางสาวกชนันท์ ลุนจันทา | D7: 4/3 | E7: ลาออก ไม่ศึกษาต่อ
A8: 5 | B8: 16147 | C8: นางสาวพัชราภา วังกลาง | D8: 4/3 | E8: ลาออก ไม่ศึกษาต่อ
A9: 6 | B9: 15215 | C9: นายยศกร ขำโพธิ์ | D9: 4/4 | E9: ลาออก ไม่ศึกษาต่อ
A10: 7 | B10: 15219 | C10: นายนพพล งามโพธิ์ | D10: 4/4 | E10: ลาออก ไม่ศึกษาต่อ
A11: 8 | B11: 15221 | C11: นายอนุศิษฏ์ บัวกลาง | D11: 4/4 | E11: ลาออก ไม่ศึกษาต่อ
A12: 9 | B12: 15231 | C12: นายธนชาติ ช้างแดง | D12: 4/4 | E12: ลาออก ไม่ศึกษาต่อ
A13: 10 | B13: 15232 | C13: นายธนวัต กลอนกลาง | D13: 4/4 | E13: ลาออก ไม่ศึกษาต่อ
A14: 11 | B14: 15254 | C14: นายณัฐนนท์ โอษฐสู | D14: 4/4 | E14: ลาออก ไม่ศึกษาต่อ
A15: 12 | B15: 16110 | C15: นายชัชวาลย์ สวาสโพธิ์กลาง | D15: 4/4 | E15: ลาออก ไม่ศึกษาต่อ
... A34: 6 | B34: 15002 | C34: นายธนวัฒน์ อ้วนสันเทียะ | D34: 5/4 | E34: ลาออก ไม่ศึกษาต่อ
A35: 7 | B35: 14701 | C35: นายธนพัฒน์ กำพุฒกลาง | D35: 5/5 | E35: ลาออก ไม่ศึกษาต่อ
A36: 8 | B36: 14937 | C36: นายอดิเรก นิลมะเริง | D36: 5/5 | E36: ลาออก ไม่ศึกษาต่อ
A37: 9 | B37: 14977 | C37: นายภานุวัฒน์ จอยไธสง | D37: 5/5 | E37: ลาออก ไม่ศึกษาต่อ

Sheet Sheet4
A1: ชั้น | B1: จำนวนนักเรียน
B2: ยอดจริง | C2: DMC (ยอดสิ้นปีการศึกษา)
A3: ม.1 | B3: 154 | C3: -
A4: ม.2 | B4: 152 | C4: 152
A5: ม.3 | B5: 148 | C5: 150
A6: ม.4 | B6: 137 | C6: -
A7: ม.5 | B7: 136 | C7: 160
A8: ม.6 | B8: 165 | C8: 174
A9: รวม | B9: =SUM(B3:B8) -> 892 | C9: =SUM(C3:C8) -> 636
