Workbook

Sheet จำนวน 2568
A1: จำนวนนักเรียน ปีการศึกษา 2568 | M1: จำนวน | N1: =N48 -> 900
B3: คณะสี | C3: ครู ก | D3: ครู ข | E3: ชาย | F3: หญิง | G3: รวม
A4: ม.1/1 | B4: ราชาวิดี | C4: ปัทมา | E4: ='รายชื่อ 2568'!K2 -> 8 | F4: ='รายชื่อ 2568'!O2 -> 21 | G4: =SUM(E4:F4) -> 29
A5: ม.1/2 | B5: ศรีตรัง | C5: ศรีนวลจันทร์ | D5: วันวิสาข์ | E5: ='รายชื่อ 2568'!AC2 -> 18 | F5: ='รายชื่อ 2568'!AH2 -> 14 | G5: =SUM(E5:F5) -> 32
A6: ม.1/3 | B6: กรรณิการ์ | C6: ประภัสสร | D6: อรวรรณ | E6: ='รายชื่อ 2568'!AU2 -> 16 | F6: ='รายชื่อ 2568'!AZ2 -> 15 | G6: =SUM(E6:F6) -> 31
A7: ม.1/4 | B7: กรรณิการ์ | C7: สมพร | D7: ศุภนิดา | E7: ='รายชื่อ 2568'!BM2 -> 20 | F7: ='รายชื่อ 2568'!BQ2 -> 12 | G7: =SUM(E7:F7) -> 32
A8: ม.1/5 | B8: มะลิวัลย์ | C8: เมธินทร์ | E8: ='รายชื่อ 2568'!CE2 -> 19 | F8: ='รายชื่อ 2568'!CI2 -> 13 | G8: =SUM(E8:F8) -> 32
D9: รวม | E9: =SUM(E4:E8) -> 81 | F9: =SUM(F4:F8) -> 75 | G9: =SUM(G4:G8) -> 156
A11: ม.2/1 | B11: ศรีตรัง | C11: กฤษณะ | E11: ='รายชื่อ 2568'!K44 -> 8 | F11: ='รายชื่อ 2568'!O44 -> 21 | G11: =SUM(E11:F11) -> 29
A12: ม.2/2 | B12: มะลิวัลย์ | C12: ชลนภา | D12: ดนุชศาสตร์ | E12: ='รายชื่อ 2568'!AC44 -> 17 | F12: ='รายชื่อ 2568'!AH44 -> 16 | G12: =SUM(E12:F12) -> 33
A13: ม.2/3 | B13: กรรณิการ์ | C13: สายธาร | D13: เพ็ญนภา | E13: ='รายชื่อ 2568'!AU44 -> 14 | F13: ='รายชื่อ 2568'!AZ44 -> 18 | G13: =SUM(E13:F13) -> 32
A14: ม.2/4 | B14: ราชาวดี | C14: อดิพงษ์ | D14: ศินีนาฏ | E14: ='รายชื่อ 2568'!BM44 -> 17 | F14: ='รายชื่อ 2568'!BQ44 -> 16 | G14: =SUM(E14:F14) -> 33
A15: ม.2/5 | B15: ราชาวดี | C15: ธนวัฒน์ | D15: นลิน | E15: ='รายชื่อ 2568'!CE44 -> 15 | F15: ='รายชื่อ 2568'!CI44 -> 16 | G15: =SUM(E15:F15) -> 31
D16: รวม | E16: =SUM(E11:E15) -> 71 | F16: =SUM(F11:F15) -> 87 | G16: =SUM(G11:G15) -> 158
A18: ม.3/1 | B18: กรรณิการ์ | C18: ปิยะฉัตร | D18: สุวิมล | E18: ='รายชื่อ 2568'!K84 -> 9 | F18: ='รายชื่อ 2568'!O84 -> 20 | G18: =SUM(E18:F18) -> 29
A19: ม.3/2 | B19: มะลิวัลย์ | C19: อ้อย | D19: นงค์นุช | E19: ='รายชื่อ 2568'!AC84 -> 16 | F19: ='รายชื่อ 2568'!AH84 -> 25 | G19: =SUM(E19:F19) -> 41
A20: ม.3/3 | B20: ราชาวดี | C20: รินทร์ลภัส | D20: นันทวรรณ | E20: ='รายชื่อ 2568'!AU84 -> 20 | F20: ='รายชื่อ 2568'!AZ84 -> 16 | G20: =SUM(E20:F20) -> 36
A21: ม.3/4 | B21: ศรีตรัง | C21: จริษา | D21: ธัญพร | E21: ='รายชื่อ 2568'!BM84 -> 18 | F21: ='รายชื่อ 2568'!BQ84 -> 24 | G21: =SUM(E21:F21) -> 42
D22: รวม | E22: =SUM(E18:E21) -> 63 | F22: =SUM(F18:F21) -> 85 | G22: =SUM(G18:G21) -> 148
A24: ม.4/1 | B24: มะลิวัลย์ | C24: วิไล | E24: ='รายชื่อ 2568'!K133 -> 5 | F24: ='รายชื่อ 2568'!O133 -> 21 | G24: =SUM(E24:F24) -> 26
A25: ม.4/2 | B25: ศรีตรัง | C25: ชยุดา | D25: ชัชชัย | E25: ='รายชื่อ 2568'!AA133 -> 5 | F25: ='รายชื่อ 2568'!AG133 -> 23 | G25: =SUM(E25:F25) -> 28
A26: ม.4/3 | B26: กรรณิการ์ | C26: ประเดิม | D26: ธิดามาศ | E26: ='รายชื่อ 2568'!AU133 -> 10 | F26: ='รายชื่อ 2568'!AY133 -> 17 | G26: =SUM(E26:F26) -> 27
A27: ม.4/4 | B27: มะลิวัลย์ | C27: พงศ์ศักดิ์ | E27: ='รายชื่อ 2568'!BK133 -> 21 | F27: ='รายชื่อ 2568'!BQ133 -> 6 | G27: =SUM(E27:F27) -> 27
A28: ม.4/5 | B28: ราชาวดี | C28: จิตนา | E28: ='รายชื่อ 2568'!CE133 -> 13 | F28: ='รายชื่อ 2568'!CI133 -> 11 | G28: =SUM(E28:F28) -> 24
A29: ม.4/6 | B29: มะลิวัลย์ | C29: วชิราพรรณ | E29: ='รายชื่อ 2568'!CW133 -> 0 | F29: ='รายชื่อ 2568'!DA133 -> 3 | G29: =SUM(E29:F29) -> 3
D30: รวม | E30: =SUM(E24:E29) -> 54 | F30: =SUM(F24:F29) -> 81 | G30: =SUM(G24:G29) -> 135
A32: ม.5/1 | B32: กรรณิการ์ | C32: ปุณยวีร์ | D32: เสาวคนธ์ | E32: ='รายชื่อ 2568'!K171 -> 9 | F32: ='รายชื่อ 2568'!O171 -> 18 | G32: =SUM(E32:F32) -> 27
A33: ม.5/2 | B33: ราชาวดี | C33: พิมพ์พรรณ | D33: นันทวัน | E33: ='รายชื่อ 2568'!AA171 -> 10 | F33: ='รายชื่อ 2568'!AG171 -> 23 | G33: =SUM(E33:F33) -> 33
A34: ม.5/3 | B34: มะลิวัลย์ | C34: จุฑารัตน์ | D34: ภิญญาพัชญ์ | E34: ='รายชื่อ 2568'!AU171 -> 12 | F34: ='รายชื่อ 2568'!AY171 -> 23 | G34: =SUM(E34:F34) -> 35
A35: ม.5/4 | B35: ศรีตรัง | C35: นัฐภรณ์ | E35: ='รายชื่อ 2568'!BM171 -> 4 | F35: ='รายชื่อ 2568'!BQ171 -> 1 | G35: =SUM(E35:F35) -> 5
A36: ม.5/5 | B36: ศรีตรัง | C36: วรพจน์ | D36: จิราวุฒิ | E36: ='รายชื่อ 2568'!CE171 -> 23 | F36: ='รายชื่อ 2568'!CI171 -> 12 | G36: =SUM(E36:F36) -> 35
D37: รวม | E37: =SUM(E32:E36) -> 58 | F37: =SUM(F32:F36) -> 77 | G37: =SUM(G32:G36) -> 135
A39: ม.6/1 | B39: ศรีตรัง | C39: ชนิดา | E39: ='รายชื่อ 2568'!K217 -> 6 | F39: ='รายชื่อ 2568'!O217 -> 16 | G39: =SUM(E39:F39) -> 22
A40: ม.6/2 | B40: กรรณิการ์ | C40: ชฎาพร | D40: จิราภรณ์ | E40: ='รายชื่อ 2568'!AC217 -> 11 | F40: ='รายชื่อ 2568'!AG217 -> 23 | G40: =SUM(E40:F40) -> 34
A41: ม.6/3 | B41: ราชาวดี | C41: ฐิตาภา | E41: ='รายชื่อ 2568'!AU217 -> 6 | F41: ='รายชื่อ 2568'!AY217 -> 25 | G41: =SUM(E41:F41) -> 31
A42: ม.6/4 | B42: กรรณิการ์ | C42: ฉัตราภรณ์ | D42: ธีรนุช | E42: ='รายชื่อ 2568'!BM217 -> 14 | F42: ='รายชื่อ 2568'!BQ217 -> 17 | G42: =SUM(E42:F42) -> 31
A43: ม.6/5 | B43: มะลิวัลย์ | C43: ณภัสรพี | D43: นลิน | E43: ='รายชื่อ 2568'!CE217 -> 14 | F43: ='รายชื่อ 2568'!CI217 -> 10 | G43: =SUM(E43:F43) -> 24
A44: ม.6/6 | B44: ศรีตรัง | C44: พัชรีพร | E44: ='รายชื่อ 2568'!CW217 -> 5 | F44: ='รายชื่อ 2568'!DA217 -> 21 | G44: =SUM(E44:F44) -> 26
D45: รวม | E45: =SUM(E39:E44) -> 56 | F45: =SUM(F39:F44) -> 112 | G45: =SUM(G39:G44) -> 168
A47: จำนวน นร. | B47: ชาย | C47: หญิง | D47: รวม | F47: จำนวน นร. | G47: ชาย | H47: หญิง | I47: รวม | K47: จำนวน นร. | L47: ชาย | M47: หญิง | N47: รวม
A48: ชั้น ม.ต้น | B48: =E9+E16+E22 -> 215 | C48: =F9+F16+F22 -> 247 | D48: =G9+G16+G22 -> 462 | F48: ชั้น ม.ปลาย | G48: =E30+E37+E45 -> 168 | H48: =F30+F37+F45 -> 270 | I48: =G30+G37+G45 -> 438 | K48: ทั้งหมด | L48: =B48+G48 -> 383 | M48: =C48+H48 -> 517 | N48: =SUM(L48:M48) -> 900
A49: หมายเหตุ ครู ก และ ข อาจจะมีการเปลี่ยนแปลง

Sheet รายชื่อ 2568
A1: รายชื่อนักเรียนโรงเรียนมหิศราธิบดี ชั้นมัธยมศึกษาปีที่ 1/1 ปีการศึกษา 2568 | S1: รายชื่อนักเรียนโรงเรียนมหิศราธิบดี ชั้นมัธยมศึกษาปีที่ 1/2 ปีการศึกษา 2568 | AK1: รายชื่อนักเรียนโรงเรียนมหิศราธิบดี ชั้นมัธยมศึกษาปีที่ 1/3 ปีการศึกษา 2568 | BC1: รายชื่อนักเรียนโรงเรียนมหิศราธิบดี ชั้นมัธยมศึกษาปีที่ 1/4 ปีการศึกษา 2568 | BU1: รายชื่อนักเรียนโรงเรียนมหิศราธิบดี ชั้นมัธยมศึกษาปีที่ 1/5 ปีการศึกษา 2568
B2: คณะสี | C2: ราชาวดี | D2: จำนวนนักเรียน | E2: รวม | F2: 29 | G2: คน | J2: ชาย | K2: 8 | L2: คน | N2: หญิง | O2: =F2-K2 -> 21 | P2: คน | T2: คณะสี | U2: ศรีตรัง | V2: จำนวนนักเรียน | W2: รวม | X2: 32 | Y2: คน | AB2: ชาย | AC2: 18 | AD2: คน | AG2: หญิง | AH2: =SUM(X2-AC2) -> 14 | AI2: คน | AL2: คณะสี | AM2: กรรณิการ์ | AN2: จำนวนนักเรียน | AO2: รวม | AP2: 31 | AQ2: คน | AT2: ชาย | AU2: 16 | AV2: คน | AY2: หญิง | AZ2: =SUM(AP2-AU2) -> 15 | BA2: คน | BD2: คณะสี | BE2: กรรณิการ์ | BF2: จำนวนนักเรียน | BG2: รวม | BH2: 32 | BI2: คน | BL2: ชาย | BM2: 20 | BN2: คน | BP2: หญิง | BQ2: =SUM(BH2-BM2) -> 12 | BR2: คน | BV2: คณะสี | BW2: มะลิวัลย์ | BX2: จำนวนนักเรียน | BY2: รวม | BZ2: 32 | CA2: คน | CD2: ชาย | CE2: 19 | CF2: คน | CH2: หญิง | CI2: =SUM(BZ2-CE2) -> 13 | CJ2: คน | CN2: รหัสเริ่ม | CO2: 16412
B3: ครูที่ปรึกษา | C3: ก. | D3: ครูปัทมา ส่งสุข | E3: ข. | T3: ครูที่ปรึกษา | U3: ก. | V3: ครูศรีนวลจันทร์ คงฟัก | W3: ข. | X3: ครูวันวิสาข์ กลึงกลางดอน | AL3: ครูที่ปรึกษา | AM3: ก. | AN3: ครูปภัสสร ภูมินา | AO3: ข. | AP3: ครูอรวรรณ ปรางค์โบราณนอก | BD3: ครูที่ปรึกษา | BE3: ก. | BF3: ครูสมพร ยิ่งโสภา | BG3: ข. | BH3: ครูศุภนิดา ศุภสุข | BV3: ครูที่ปรึกษา | BW3: ก. | BX3: ครูเมธินทร์ ประสิทธิ์นอก
A4: เลข | B4: เลข ปจต. | D4: ชื่อ - สกุล | S4: เลข | T4: เลข ปจต. | V4: ชื่อ - สกุล | AK4: เลข | AL4: เลข ปจต. | AN4: ชื่อ - สกุล | BC4: เลข | BD4: เลข ปจต. | BF4: ชื่อ - สกุล | BU4: เลข | BV4: เลข ปจต. | BX4: ชื่อ - สกุล | CN4: เลขว่าง
A5: ที่ | B5: นักเรียน | S5: ที่ | T5: นักเรียน | AK5: ที่ | AL5: นักเรียน | BC5: ที่ | BD5: นักเรียน | BU5: ที่ | BV5: นักเรียน
A6: 1 | B6: 1030101004 | C6: 16191 | D6: เด็กชายกิตติพงษ์ ทิมอ่อน | S6: 1 | T6: 1030101004 | U6: 16199 | V6: เด็กชายกนกพล แสนพงษ์ | AK6: 1 | AL6: 1030101004 | AM6: 16217 | AN6: เด็กชายณัฐกร โสพิมพ์ | BC6: 1 | BD6: 1030101004 | BE6: 16233 | BF6: เด็กชายกรภัทร์ ลิ้มกลาง | BU6: 1 | BV6: 1030101004 | BW6: 16253 | BX6: เด็กชายกวิน โยธา
A7: 2 | B7: 1030101004 | C7: 16192 | D7: เด็กชายจักรพัส คุดขุนทด | S7: 2 | T7: 1030101004 | U7: 16200 | V7: เด็กชายกิตติศักดิ์ ศรีทะวงษ์ | AK7: 2 | AL7: 1030101004 | AM7: 16218 | AN7: เด็กชายเดชาวัต ฉ่ำจอหอ | BC7: 2 | BD7: 1030101004 | BE7: 16234 | BF7: เด็กชายกรรชัย แถมโพธิ์ | BU7: 2 | BV7: 1030101004 | BW7: 16254 | BX7: เด็กชายกิตติทัต สุขไม้
A8: 3 | B8: 1030101004 | C8: 16193 | D8: เด็กชายชญานน หมายดี | S8: 3 | T8: 1030101004 | U8: 16201 | V8: เด็กชายคุณภัทร สุทันรัมย์ | AK8: 3 | AL8: 1030101004 | AM8: 16219 | AN8: เด็กชายธีรทร ตับกลาง | BC8: 3 | BD8: 1030101004 | BE8: 16235 | BF8: เด็กชายกลธีร์ จูงกลาง | BU8: 3 | BV8: 1030101004 | BW8: 16255 | BX8: เด็กชายชัยพัฒน์ วังกลาง
A9: 4 | B9: 1030101004 | C9: 16194 | D9: เด็กชายปรมัตถ์ รัตนยงค์ | S9: 4 | T9: 1030101004 | U9: 16202 | V9: เด็กชายฉัตรภูมิ ผ่านกลาง | AK9: 4 | AL9: 1030101004 | AM9: 16220 | AN9: เด็กชายธีรภัทร แก้วระวัง | BC9: 4 | BD9: 1030101004 | BE9: 16236 | BF9: เด็กชายดนัยณัฎฐ์ มะไสไธสง | BU9: 4 | BV9: 1030101004 | BW9: 16256 | BX9: เด็กชายณัฐสิทธิ์ สุวรรณชาติ
A10: 5 | B10: 1030101004 | C10: 16195 | D10: เด็กชายปุญญพัฒน์ ลี้ภัย | S10: 5 | T10: 1030101004 | U10: 16203 | V10: เด็กชายโชคอนันต์ ศรีทรัพย์ | AK10: 5 | AL10: 1030101004 | AM10: 16221 | AN10: เด็กชายนราธิป เที่ยวกลาง | BC10: 5 | BD10: 1030101004 | BE10: 16237 | BF10: เด็กชายดุสิต กิ่งโพธิ์ | BU10: 5 | BV10: 1030101004 | BW10: 16257 | BX10: เด็กชายทีปกร ริมสันเทียะ
A11: 6 | B11: 1030101004 | C11: 16196 | D11: เด็กชายภาณุพงศ์ พ้องงูเหลือม | S11: 6 | T11: 1030101004 | U11: 16204 | V11: เด็กชายณฤภัทร ด้วงวงศ์ | AK11: 6 | AL11: 1030101004 | AM11: 16222 | AN11: เด็กชายปิติภัทร อินทร์จอหอ | BC11: 6 | BD11: 1030101004 | BE11: 16238 | BF11: เด็กชายทีปกร เชาว์โคกสูง | BU11: 6 | BV11: 1030101004 | BW11: 16258 | BX11: เด็กชายธนกฤต ก้อนโพธิ์
A12: 7 | B12: 1030101004 | C12: 16197 | D12: เด็กชายสรรพสิริ สังขารีย์ | S12: 7 | T12: 1030101004 | U12: 16205 | V12: เด็กชายณัฐกิตติ์ ขำโพธิ์ | AK12: 7 | AL12: 1030101004 | AM12: 16223 | AN12: เด็กชายพรรณษา คงฤทธิ์ | BC12: 7 | BD12: 1030101004 | BE12: 16239 | BF12: เด็กชายธนโชติ มงคลสำโรง | BU12: 7 | BV12: 1030101004 | BW12: 16259 | BX12: เด็กชายนรภัทร มากกลาง
A13: 8 | B13: 1030101004 | C13: 16198 | D13: เด็กชายอภิชาติ เลิศสันเทียะ | S13: 8 | T13: 1030101004 | U13: 16206 | V13: เด็กชายณัฐกิตติ์ ผิวทอง | AK13: 8 | AL13: 1030101004 | AM13: 16224 | AN13: เด็กชายพัชรพล พูนกลาง | BC13: 8 | BD13: 1030101004 | BE13: 16240 | BF13: เด็กชายปฐพี คำแสง | BU13: 8 | BV13: 1030101004 | BW13: 16260 | BX13: เด็กชายปธานิน บุญตา
A14: 9 | B14: 1030101004 | C14: 16271 | D14: เด็กหญิงกัญญานัฐ จุ่นทองหลาง | S14: 9 | T14: 1030101004 | U14: 16207 | V14: เด็กชายณัฐดนัย เตียงกูล | AK14: 9 | AL14: 1030101004 | AM14: 16225 | AN14: เด็กชายพีรณัฐ วัฒนวิชัย | BC14: 9 | BD14: 1030101004 | BE14: 16241 | BF14: เด็กชายปฐพี มุ่งภู่กลาง | BU14: 9 | BV14: 1030101004 | BW14: 16261 | BX14: เด็กชายปวเรศ สังขารี
A15: 10 | B15: 1030101004 | C15: 16272 | D15: เด็กหญิงกัลยวีร์ วงษ์จิรเจริญ | S15: 10 | T15: 1030101004 | U15: 16208 | V15: เด็กชายทักษ์ดนัย เลี่ยมงูเหลือม | AK15: 10 | AL15: 1030101004 | AM15: 16227 | AN15: เด็กชายภูกมล ทิมสันเทียะ | BC15: 10 | BD15: 1030101004 | BE15: 16242 | BF15: เด็กชายพงศกร ทันบาล | BU15: 10 | BV15: 1030101004 | BW15: 16262 | BX15: เด็กชายปัญญาวี ศรีจัตุรัส
A16: 11 | B16: 1030101004 | C16: 16273 | D16: เด็กหญิงกานต์พิชชา โพธิ์เขมวัช | S16: 11 | T16: 1030101004 | U16: 16209 | V16: เด็กชายนันทพงศ์ วงศ์พันธ์ | AK16: 11 | AL16: 1030101004 | AM16: 16228 | AN16: เด็กชายรัตน์ชานนท์ โสนกลาง | BC16: 11 | BD16: 1030101004 | BE16: 16243 | BF16: เด็กชายพิชชากร แร่สันเทียะ | BU16: 11 | BV16: 1030101004 | BW16: 16263 | BX16: เด็กชายพงศกร แทวกระโทก
A17: 12 | B17: 1030101004 | C17: 16274 | D17: เด็กหญิงจารุวรรณ คร่ำสุข | S17: 12 | T17: 1030101004 | U17: 16210 | V17: เด็กชายปุณณวิช ยางสูง | AK17: 12 | AL17: 1030101004 | AM17: 16229 | AN17: เด็กชายศศิกร ไชยมี | BC17: 12 | BD17: 1030101004 | BE17: 16244 | BF17: เด็กชายพีรวัฒน์ สีทา | BU17: 12 | BV17: 1030101004 | BW17: 16264 | BX17: เด็กชายพรมนัส เต้ากลาง
A18: 13 | B18: 1030101004 | C18: 16275 | D18: เด็กหญิงจิดาภา สมัครการ | S18: 13 | T18: 1030101004 | U18: 16211 | V18: เด็กชายเผดิมผล พูนน้อย | AK18: 13 | AL18: 1030101004 | AM18: 16230 | AN18: เด็กชายสรวิศ ภูวงษ์ | BC18: 13 | BD18: 1030101004 | BE18: 16245 | BF18: เด็กชายภูสิทธิ์ สุพรรณกลาง | BU18: 13 | BV18: 1030101004 | BW18: 16265 | BX18: เด็กชายมนัญชัย ณ นคร
A19: 14 | B19: 1030101004 | C19: 16276 | D19: เด็กหญิงชลธิชา ธุระสุข | S19: 14 | T19: 1030101004 | U19: 16212 | V19: เด็กชายพีระพงษ์ เกล็ดงูเหลือม | AK19: 14 | AL19: 1030101004 | AM19: 16231 | AN19: เด็กชายสุทธิศักดิ์ จันทร์ทอง | BC19: 14 | BD19: 1030101004 | BE19: 16246 | BF19: เด็กชายยศวรรทน์ เนื้อนา | BU19: 14 | BV19: 1030101004 | BW19: 16266 | BX19: เด็กชายเมธาวี งามแสง
A20: 15 | B20: 1030101004 | C20: 16277 | D20: เด็กหญิงชวิณนุช พื้นเกาะ | S20: 15 | T20: 1030101004 | U20: 16213 | V20: เด็กชายรัชชานนท์ เทศกระโทก | AK20: 15 | AL20: 1030101004 | AM20: 16232 | AN20: เด็กชายอนุวัฒน์ ตล่อมกลาง | BC20: 15 | BD20: 1030101004 | BE20: 16247 | BF20: เด็กชายวรโชติ พวงเกาะ | BU20: 15 | BV20: 1030101004 | BW20: 16267 | BX20: เด็กชายเมศวรา พรรัมย์
A21: 16 | B21: 1030101004 | C21: 16278 | D21: เด็กหญิงญาณิน พันธุ์สาย | S21: 16 | T21: 1030101004 | U21: 16214 | V21: เด็กชายศรีวิชัย จะนันท์ | AK21: 16 | AL21: 1030101004 | AM21: 16396 | AN21: เด็กชายธนพัฒน์ ครุฑขุนทด | BC21: 16 | BD21: 1030101004 | BE21: 16248 | BF21: เด็กชายวริศ ไนย์พรม | BU21: 16 | BV21: 1030101004 | BW21: 16268 | BX21: เด็กชายศศิเดช วิเชียรชัย
A22: 17 | B22: 1030101004 | C22: 16279 | D22: เด็กหญิงธนัฏฐา บัวกลาง | S22: 17 | T22: 1030101004 | U22: 16215 | V22: เด็กชายศิวายุ อาจอินทร์ | AK22: 17 | AL22: 1030101004 | AM22: 16307 | AN22: เด็กหญิงกมลเนตร ภักดีจอหอ | BC22: 17 | BD22: 1030101004 | BE22: 16249 | BF22: เด็กชายวัชรพัฒน์ งามศิลป์ | BU22: 17 | BV22: 1030101004 | BW22: 16269 | BX22: เด็กชายเสกสรรค์ ถิ่นโพธิ์
A23: 18 | B23: 1030101004 | C23: 16280 | D23: เด็กหญิงธัญพิชชา ถมโพธิ์ | S23: 18 | T23: 1030101004 | U23: 16216 | V23: เด็กชายศุภณัฐ ญวนแม | AK23: 18 | AL23: 1030101004 | AM23: 16308 | AN23: เด็กหญิงเกวลี หรคุณ | BC23: 18 | BD23: 1030101004 | BE23: 16250 | BF23: เด็กชายวีรกานต์ พันธ์โพธิ์ | BU23: 18 | BV23: 1030101004 | BW23: 16270 | BX23: เด็กชายอภิชาติ เลิศสันเทียะ
A24: 19 | B24: 1030101004 | C24: 16281 | D24: เด็กหญิงนวรัตน์ ยุทธรรม | S24: 19 | T24: 1030101004 | U24: 16293 | V24: เด็กหญิงกมลชนก พันชาลี | AK24: 19 | AL24: 1030101004 | AM24: 16310 | AN24: เด็กหญิงฐิตาภา พระวิวัน | BC24: 19 | BD24: 1030101004 | BE24: 16251 | BF24: เด็กชายวีรศักดิ์ ปราณี | BU24: 19 | BV24: 1030101004 | BW24: 16289 | BX24: เด็กชายภคพล จำลองศุภลักษณ์
A25: 20 | B25: 1030101004 | C25: 16282 | D25: เด็กหญิงปภาวรินทร์ ขุ่มด้วง | S25: 20 | T25: 1030101004 | U25: 16294 | V25: เด็กหญิงกวินธิดา เอียการนา | AK25: 20 | AL25: 1030101004 | AM25: 16311 | AN25: เด็กหญิงฐิติกาญจน์ จำปาโพธิ์ | BC25: 20 | BD25: 1030101004 | BE25: 16252 | BF25: เด็กชายอนันทนา สุวรรณทา | BU25: 20 | BV25: 1030101004 | BW25: 16335 | BX25: เด็กหญิงกลมชนก บีพิมาย
A26: 21 | B26: 1030101004 | C26: 16283 | D26: เด็กหญิงพิชชาอร เสดโคกสูง | S26: 21 | T26: 1030101004 | U26: 16295 | V26: เด็กหญิงกัลยาภัทร พรเพ็ชร | AK26: 21 | AL26: 1030101004 | AM26: 16312 | AN26: เด็กหญิงณัฐธิดา บำรุงเกาะ | BC26: 21 | BD26: 1030101004 | BE26: 16323 | BF26: เด็กหญิงกัญญาภัทร หากระวี | BU26: 21 | BV26: 1030101004 | BW26: 16336 | BX26: เด็กหญิงกัลยกรณ์ พรมภักดี
A27: 22 | B27: 1030101004 | C27: 16284 | D27: เด็กหญิงพิชญาภัค ช่วยงาน | S27: 22 | T27: 1030101004 | U27: 16296 | V27: เด็กหญิงชนกานต์ ทองรักษ์ | AK27: 22 | AL27: 1030101004 | AM27: 16313 | AN27: เด็กหญิงทิพรดา ฟุ้งกลาง | BC27: 22 | BD27: 1030101004 | BE27: 16324 | BF27: เด็กหญิงกิ่งกาญจน์ เชยโพธิ์ | BU27: 22 | BV27: 1030101004 | BW27: 16337 | BX27: เด็กหญิงจินดารัตน์ ซื่อเสมอ
A28: 23 | B28: 1030101004 | C28: 16285 | D28: เด็กหญิงรัตน์เกล้า เปรมนอก | S28: 23 | T28: 1030101004 | U28: 16297 | V28: เด็กหญิงชัชฎาภรณ์ เกลาโพธิ์ | AK28: 23 | AL28: 1030101004 | AM28: 16314 | AN28: เด็กหญิงธัญญารัตน์ หลาบกลาง | BC28: 23 | BD28: 1030101004 | BE28: 16325 | BF28: เด็กหญิงชุติมา วรรณทรัพย์ | BU28: 23 | BV28: 1030101004 | BW28: 16338 | BX28: เด็กหญิงณัฐธิชา จากโคกสูง
A29: 24 | B29: 1030101004 | C29: 16286 | D29: เด็กหญิงลิลลดา เข้ากล้า | S29: 24 | T29: 1030101004 | U29: 16298 | V29: เด็กหญิงณัฐนิชา แสนยศ | AK29: 24 | AL29: 1030101004 | AM29: 16315 | AN29: เด็กหญิงนิชานันท์ ผัดโพธิ์ | BC29: 24 | BD29: 1030101004 | BE29: 16326 | BF29: เด็กหญิงนันทนัท ไพลกลาง | BU29: 24 | BV29: 1030101004 | BW29: 16339 | BX29: เด็กหญิงณิชชยา มงคลชู
A30: 25 | B30: 1030101004 | C30: 16287 | D30: เด็กหญิงศฏายุรัช ทันเฉลิม | S30: 25 | T30: 1030101004 | U30: 16299 | V30: เด็กหญิงปิยะกมล ชาติไทย | AK30: 25 | AL30: 1030101004 | AM30: 16316 | AN30: เด็กหญิงประพัสรา เสนกลาง | BC30: 25 | BD30: 1030101004 | BE30: 16327 | BF30: เด็กหญิงปมณฑ์ชนัส ฉัตรเฉลิม | BU30: 25 | BV30: 1030101004 | BW30: 16340 | BX30: เด็กหญิงทิพปภา งามโพธิ์
... A34: 29 | B34: 1030101004 | C34: 16411 | D34: เด็กหญิงสุภัทรา ปั้นโพธิ์ | S34: 29 | T34: 1030101004 | U34: 16303 | V34: เด็กหญิงมนรดา ปิ่นกลาง | AK34: 29 | AL34: 1030101004 | AM34: 16320 | AN34: เด็กหญิงภัทรศญา ประกอบกิจ | BC34: 29 | BD34: 1030101004 | BE34: 16331 | BF34: เด็กหญิงวรารี โจมกลาง | BU34: 29 | BV34: 1030101004 | BW34: 16344 | BX34: เด็กหญิงลักษิกา บาตรโพธิ์
S35: 30 | T35: 1030101004 | U35: 16304 | V35: เด็กหญิงรุจีรัตน์ ทองคำ | AK35: 30 | AL35: 1030101004 | AM35: 16321 | AN35: เด็กหญิงวรัญญา จำปาโพธิ์ | BC35: 30 | BD35: 1030101004 | BE35: 16332 | BF35: เด็กหญิงสุพรรณิชา จีบโพธิ์ | BU35: 30 | BV35: 1030101004 | BW35: 16345 | BX35: เด็กหญิงศิรินันท์ เติมศักดิ์
S36: 31 | T36: 1030101004 | U36: 16305 | V36: เด็กหญิงลัลลิลล์ พรรณสาลี้ | AK36: 31 | AL36: 1030101004 | AM36: 16322 | AN36: เด็กหญิงอัญฐิษา ธรรมจอหอ | BC36: 31 | BD36: 1030101004 | BE36: 16333 | BF36: เด็กหญิงหนึ่งธิดา นามศักดิ์ | BU36: 31 | BV36: 1030101004 | BW36: 16346 | BX36: เด็กหญิงสุมินตรา เข็มทองหลาง
S37: 32 | T37: 1030101004 | U37: 16306 | V37: เด็กหญิงสุรัตน์ติกานต์ ทองสุข | BC37: 32 | BD37: 1030101004 | BE37: 16334 | BF37: เด็กหญิงอรณิษา สมกลาง | BU37: 32 | BV37: 1030101004 | BW37: 16347 | BX37: เด็กหญิงอรนลิน นันกลาง
A43: รายชื่อนักเรียนโรงเรียนมหิศราธิบดี ชั้นมัธยมศึกษาปีที่ 2/1 ปีการศึกษา 2568 | S43: รายชื่อนักเรียนโรงเรียนมหิศราธิบดี ชั้นมัธยมศึกษาปีที่ 2/2 ปีการศึกษา 2568 | AK43: รายชื่อนักเรียนโรงเรียนมหิศราธิบดี ชั้นมัธยมศึกษาปีที่ 2/3 ปีการศึกษา 2568 | BC43: รายชื่อนักเรียนโรงเรียนมหิศราธิบดี ชั้นมัธยมศึกษาปีที่ 2/4 ปีการศึกษา 2568 | BU43: รายชื่อนักเรียนโรงเรียนมหิศราธิบดี ชั้นมัธยมศึกษาปีที่ 2/5 ปีการศึกษา 2568
B44: คณะสี | C44: ศรีตรัง | D44: จำนวนนักเรียน | E44: รวม | F44: 29 | G44: คน | J44: ชาย | K44: 8 | L44: คน | N44: หญิง | O44: =F44-K44 -> 21 | P44: คน | T44: คณะสี | U44: มะลิวัลย์ | V44: จำนวนนักเรียน | W44: รวม | X44: 33 | Y44: คน | AB44: ชาย | AC44: 17 | AD44: คน | AG44: หญิง | AH44: =SUM(X44-AC44) -> 16 | AI44: คน | AL44: คณะสี | AM44: กรรณิการ์ | AN44: จำนวนนักเรียน | AO44: รวม | AP44: 32 | AQ44: คน | AT44: ชาย | AU44: 14 | AV44: คน | AY44: หญิง | AZ44: =SUM(AP44-AU44) -> 18 | BA44: คน | BD44: คณะสี | BE44: ราชาวดี | BF44: จำนวนนักเรียน | BG44: รวม | BH44: 33 | BI44: คน | BL44: ชาย | BM44: 17 | BN44: คน | BP44: หญิง | BQ44: =SUM(BH44-BM44) -> 16 | BR44: คน | BV44: คณะสี | BW44: ราชาวดี | BX44: จำนวนนักเรียน | BY44: รวม | BZ44: 31 | CA44: คน | CD44: ชาย | CE44: 15 | CF44: คน | CH44: หญิง | CI44: =SUM(BZ44-CE44) -> 16 | CJ44: คน
B45: ครูที่ปรึกษา | C45: ก. | D45: ครูกฤษณะ มิกขุนทด | E45: ข. | F45: ครูพรปวีณ์ ทนสระน้อย | T45: ครูที่ปรึกษา | U45: ก. | V45: ครูชลนภา คงคิด | W45: ข. | X45: ครูดนุชศาสตร์ ศรีพล | AL45: ครูที่ปรึกษา | AM45: ก. | AN45: ครูสายธาร หวังแอบกลาง | AO45: ข. | AP45: นางสาวเพ็ญนภา ใยงูเหลือม | BD45: ครูที่ปรึกษา | BE45: ก. | BF45: นายอดิพงษ์ เมฆกระโทก | BG45: ข. | BH45: ครูศินีนาฏ เสวะนา | BV45: ครูที่ปรึกษา | BW45: ก. | BX45: ครูธนวัฒน์ โทจันทร์ | BY45: ข. | BZ45: ครูนลิน วงศ์เครือญาติ
A46: เลข | B46: เลข ปจต. | D46: ชื่อ - สกุล | S46: เลข | T46: เลข ปจต. | V46: ชื่อ - สกุล | AK46: เลข | AL46: เลข ปจต. | AN46: ชื่อ - สกุล | BC46: เลข | BD46: เลข ปจต. | BF46: ชื่อ - สกุล | BU46: เลข | BV46: เลข ปจต. | BX46: ชื่อ - สกุล
A47: ที่ | B47: นักเรียน | S47: ที่ | T47: นักเรียน | AK47: ที่ | AL47: นักเรียน | BC47: ที่ | BD47: นักเรียน | BU47: ที่ | BV47: นักเรียน
A48: 1 | B48: 1030101004 | C48: 15943 | D48: เด็กชายฉัตรดนัย คุ้มกลาง | S48: 1 | T48: 1030101004 | U48: 15951 | V48: เด็กชายก้องภพ กิ่งกลาง | AK48: 1 | AL48: 1030101004 | AM48: 15961 | AN48: เด็กชายพรรษา วงศ์จันทร์ | BC48: 1 | BD48: 1030101004 | BE48: 15985 | BF48: เด็กชายกิตติกวิน เจริญ | BU48: 1 | BV48: 1030101004 | BW48: 16002 | BX48: เด็กชายกิตติพันธ์ ศรีโพธิ์
A49: 2 | B49: 1030101004 | C49: 15944 | D49: เด็กชายชนะวิชญ์ เมธีชัยพัชร์ | S49: 2 | T49: 1030101004 | U49: 15952 | V49: เด็กชายกิตติศักดิ์ สุวรรณ์ | AK49: 2 | AL49: 1030101004 | AM49: 15968 | AN49: เด็กชายกันตชาติ คงนาคพะเนา | BC49: 2 | BD49: 1030101004 | BE49: 15986 | BF49: เด็กชายคุณากร แชจอหอ | BU49: 2 | BV49: 1030101004 | BW49: 16004 | BX49: เด็กชายชยาทิต ภักดิ์โพธิ์
A50: 3 | B50: 1030101004 | C50: 15945 | D50: เด็กชายชลสิทธิ์ ธุระสุข | S50: 3 | T50: 1030101004 | U50: 15953 | V50: เด็กชายจันทร์ทวี กล้าเกิด | AK50: 3 | AL50: 1030101004 | AM50: 15969 | AN50: เด็กชายไกรวิชญ์ ขอจุนกลาง | BC50: 3 | BD50: 1030101004 | BE50: 15987 | BF50: เด็กชายจีรพงษ์ เขียนโพธิ์ | BU50: 3 | BV50: 1030101004 | BW50: 16005 | BX50: เด็กชายณัฐปคัลภ์ เชยโพธิ์
A51: 4 | B51: 1030101004 | C51: 15946 | D51: เด็กชายตุลาการ สร้อยกลาง | S51: 4 | T51: 1030101004 | U51: 15954 | V51: เด็กชายชวัลวิทย์ ลี้ฮวด | AK51: 4 | AL51: 1030101004 | AM51: 15970 | AN51: เด็กชายจิรายุ ถึงกลาง | BC51: 4 | BD51: 1030101004 | BE51: 15988 | BF51: เด็กชายณัชพล มณีปกรณ์ | BU51: 4 | BV51: 1030101004 | BW51: 16006 | BX51: เด็กชายเตชินท์ ทับจะบก
A52: 5 | B52: 1030101004 | C52: 15947 | D52: เด็กชายปิยะนันท์ สุวรรณ | S52: 5 | T52: 1030101004 | U52: 15955 | V52: เด็กชายณัฐวรรธน์ ตาแก้ว | AK52: 5 | AL52: 1030101004 | AM52: 15971 | AN52: เด็กชายฐิติพงศ์ ไชยชุ่มศักดิ์ | BC52: 5 | BD52: 1030101004 | BE52: 15989 | BF52: เด็กชายดนัยณัฐ ส้มกลาง | BU52: 5 | BV52: 1030101004 | BW52: 16008 | BX52: เด็กชายธันวา ปลั่งกลาง
A53: 6 | B53: 1030101004 | C53: 15948 | D53: เด็กชายพิพัตมงคล ปลั่งกลาง | S53: 6 | T53: 1030101004 | U53: 15956 | V53: เด็กชายเตวิช จวนกลาง | AK53: 6 | AL53: 1030101004 | AM53: 15972 | AN53: เด็กชายณัฐวุฒิ พันธ์แจ่ม | BC53: 6 | BD53: 1030101004 | BE53: 15990 | BF53: เด็กชายทินภัทร ศรีชมภูพาน | BU53: 6 | BV53: 1030101004 | BW53: 16009 | BX53: เด็กชายนพรุจ ป้องขันธ์
A54: 7 | B54: 1030101004 | C54: 15949 | D54: เด็กชายวรภัทร ธงกระโทก | S54: 7 | T54: 1030101004 | U54: 15957 | V54: เด็กชายธนภัทร น้อยสากล | AK54: 7 | AL54: 1030101004 | AM54: 15974 | AN54: เด็กชายธนากร กลอนกลาง | BC54: 7 | BD54: 1030101004 | BE54: 15991 | BF54: เด็กชายธรรมรัตน์ โคสินธ์ | BU54: 7 | BV54: 1030101004 | BW54: 16010 | BX54: เด็กชายนิธิศภูมิ บาทโพธิ์
A55: 8 | B55: 1030101004 | C55: 15950 | D55: เด็กชายสัณหณัฐ หวังจุนกลาง | S55: 8 | T55: 1030101004 | U55: 15958 | V55: เด็กชายธีระเดช นำโชคอนันต์ชัย | AK55: 8 | AL55: 1030101004 | AM55: 15976 | AN55: เด็กชายนันทพงศ์ ดูกลาง | BC55: 8 | BD55: 1030101004 | BE55: 15992 | BF55: เด็กชายนพพล แสงตะคล้อ | BU55: 8 | BV55: 1030101004 | BW55: 16011 | BX55: เด็กชายพงษ์พิทักษ์ ตั้งเศวตชัย
A56: 9 | B56: 1030101004 | C56: 16020 | D56: เด็กหญิงกัญญ์ณัชชา ครุฑขุนทด | S56: 9 | T56: 1030101004 | U56: 15959 | V56: เด็กชายนวพล กิ่งนอก | AK56: 9 | AL56: 1030101004 | AM56: 15977 | AN56: เด็กชายปุณวัฒน์ คำขุนทด | BC56: 9 | BD56: 1030101004 | BE56: 15993 | BF56: เด็กชายนิธิเดชน์ คำขุนทด | BU56: 9 | BV56: 1030101004 | BW56: 16012 | BX56: เด็กชายพีรวิชญ์ ถาสูงเนิน
A57: 10 | B57: 1030101004 | C57: 16021 | D57: เด็กหญิงกัญญาณี พรมนิ่ม | S57: 10 | T57: 1030101004 | U57: 15960 | V57: เด็กชายปฏิพัทธ์ แทนกลาง | AK57: 10 | AL57: 1030101004 | AM57: 15978 | AN57: เด็กชายพัชร สินโคกสูง | BC57: 10 | BD57: 1030101004 | BE57: 15994 | BF57: เด็กชายพงษกร ชอบทองหลาง | BU57: 10 | BV57: 1030101004 | BW57: 16013 | BX57: เด็กชายภูวนัย สุขเจริญ
A58: 11 | B58: 1030101004 | C58: 16022 | D58: เด็กหญิงกัลยา ยุทธเก่ง | S58: 11 | T58: 1030101004 | U58: 15962 | V58: เด็กชายพีระพัฒน์ สมานชัย | AK58: 11 | AL58: 1030101004 | AM58: 15980 | AN58: เด็กชายภูวศิน สอนกำเนิด | BC58: 11 | BD58: 1030101004 | BE58: 15995 | BF58: เด็กชายพิชาญเมธ ใจมูลมั่ง | BU58: 11 | BV58: 1030101004 | BW58: 16015 | BX58: เด็กชายวรรณจักร์ เขียนโพธิ์
A59: 12 | B59: 1030101004 | C59: 16023 | D59: เด็กหญิงเกศกัญญา ชวนโพธิ์ | S59: 12 | T59: 1030101004 | U59: 15963 | V59: เด็กชายภูวฤทธิ์ ไขโพธิ์ | AK59: 12 | AL59: 1030101004 | AM59: 15983 | AN59: เด็กชายสเตฟาน บิลกาญจน์ | BC59: 12 | BD59: 1030101004 | BE59: 15996 | BF59: เด็กชายภานุวิชญ์ เชาว์กลาง | BU59: 12 | BV59: 1030101004 | BW59: 16016 | BX59: เด็กชายศุภกิตติ์ บุตรไทย
A60: 13 | B60: 1030101004 | C60: 16024 | D60: เด็กหญิงจันทกานต์ จันทร์แย้ม | S60: 13 | T60: 1030101004 | U60: 15964 | V60: เด็กชายรัชพล โชติกลาง | AK60: 13 | AL60: 1030101004 | AM60: 15984 | AN60: เด็กชายอานนท์ กิ่งโพธิ์ | BC60: 13 | BD60: 1030101004 | BE60: 15997 | BF60: เด็กชายเมธีชัย บุญญฤทธิ์ | BU60: 13 | BV60: 1030101004 | BW60: 16017 | BX60: เด็กชายสุรชัย สุขสถิตย์
A61: 14 | B61: 1030101004 | C61: 16025 | D61: เด็กหญิงณัฐกาญจน์ รั่งกลาง | S61: 14 | T61: 1030101004 | U61: 15965 | V61: เด็กชายวีรวัฒน์ ชูช่วย | AL61: 1030101004 | AM61: 16167 | AN61: เด็กชายกฤษกวี กุสินรัมย์ | AO61: ย้าย | BC61: 14 | BD61: 1030101004 | BE61: 15998 | BF61: เด็กชายวรทันย์ ศรีมณีโรจน์ | BU61: 14 | BV61: 1030101004 | BW61: 16018 | BX61: เด็กชายอัครพงษ์ แยกโคกสูง
A62: 15 | B62: 1030101004 | C62: 16026 | D62: เด็กหญิงณัฐชญา เอี่ยมอยู่แท้ | S62: 15 | T62: 1030101004 | U62: 15966 | V62: เด็กชายสงกรานต์ แสงแก้ว | AK62: 14 | AL62: 1030101004 | AM62: 16410 | AN62: เด็กชายนภดล หังสพฤกษ์ | BC62: 15 | BD62: 1030101004 | BE62: 15999 | BF62: เด็กชายศิรวิทย์ วรรณเวช | BU62: 15 | BV62: 1030101004 | BW62: 16405 | BX62: เด็กชายเมธพนธ์ เชยโพธิ์
A63: 16 | B63: 1030101004 | C63: 16027 | D63: เด็กหญิงนฤภร แสนยากุล | S63: 16 | T63: 1030101004 | U63: 15967 | V63: เด็กชายอนุชิต ขึงโพธิ์ | AK63: 15 | AL63: 1030101004 | AM63: 16057 | AN63: เด็กหญิงกัญจนพร บาตรโพธิ์ | BC63: 16 | BD63: 1030101004 | BE63: 16000 | BF63: เด็กชายสุขภัค ดวงประสิทธิ์ | BU63: 16 | BV63: 1030101004 | BW63: 16407 | BX63: เด็กชายวรวุฒิ อมรคุณาศิริ
A64: 17 | B64: 1030101004 | C64: 16028 | D64: เด็กหญิงนันท์นภัส ยุทธกลาง | S64: 17 | T64: 1030101004 | U64: 16141 | V64: เด็กชายพาทิศ สังกัดกลาง | AK64: 16 | AL64: 1030101004 | AM64: 16058 | AN64: เด็กหญิงกุลนิดา วิริยะอุดมกุล | BC64: 17 | BD64: 1030101004 | BE64: 16001 | BF64: เด็กชายอิสรภาพ รัตนกาญจน์ | BU64: 17 | BV64: 1030101004 | BW64: 16089 | BX64: เด็กหญิงกนกวรรณ จ่ากลาง
A65: 18 | B65: 1030101004 | C65: 16029 | D65: เด็กหญิงประภัสสร พึ่งจันดุม | S65: 18 | T65: 1030101004 | U65: 16041 | V65: เด็กหญิงกรรณิการ์ ค้าคุ้ม | AK65: 17 | AL65: 1030101004 | AM65: 16059 | AN65: เด็กหญิงจอมขวัญ วัฒนเจริญพร | BC65: 18 | BD65: 1030101004 | BE65: 16074 | BF65: เด็กหญิงขวัญลัดดา สุนา | BU65: 18 | BV65: 1030101004 | BW65: 16090 | BX65: เด็กหญิงกันติชา รูปสว่าง
A66: 19 | B66: 1030101004 | C66: 16030 | D66: เด็กหญิงพิชญาภา ภูมิแกดำ | S66: 19 | T66: 1030101004 | U66: 16042 | V66: เด็กหญิงกุลนันท์ เสือกระสัง | AK66: 18 | AL66: 1030101004 | AM66: 16060 | AN66: เด็กหญิงจิรัชญา ตู้กลาง | BC66: 19 | BD66: 1030101004 | BE66: 16075 | BF66: เด็กหญิงจิภาพร คิดการ | BU66: 19 | BV66: 1030101004 | BW66: 16091 | BX66: เด็กหญิงคุณัญญา ใจงูเหลือม
A67: 20 | B67: 1030101004 | C67: 16031 | D67: เด็กหญิงภัทรศยา จันทรเสนา | S67: 20 | T67: 1030101004 | U67: 16043 | V67: เด็กหญิงคุนัญญา แก้วจอหอ | AK67: 19 | AL67: 1030101004 | AM67: 16062 | AN67: เด็กหญิงณัฐธิดา แก้วมน | BC67: 20 | BD67: 1030101004 | BE67: 16076 | BF67: เด็กหญิงจิราภา คงกุทอง | BU67: 20 | BV67: 1030101004 | BW67: 16092 | BX67: เด็กหญิงจิรดา ปลั่งกลาง
A68: 21 | B68: 1030101004 | C68: 16032 | D68: เด็กหญิงวชิรญาณ์ จำปาทอง | S68: 21 | T68: 1030101004 | U68: 16044 | V68: เด็กหญิงจิรภิญญา โนนโพธิ์ | AK68: 20 | AL68: 1030101004 | AM68: 16063 | AN68: เด็กหญิงธัญวรัตน์ เจียนโพธิ์ | BC68: 21 | BD68: 1030101004 | BE68: 16077 | BF68: เด็กหญิงฐิตาพร พาดทองหลาง | BU68: 21 | BV68: 1030101004 | BW68: 16093 | BX68: เด็กหญิงชนิสรา ประจวบกลาง
A69: 22 | B69: 1030101004 | C69: 16033 | D69: เด็กหญิงวิรดา ธัญญาหาร | S69: 22 | T69: 1030101004 | U69: 16045 | V69: เด็กหญิงชาลิสา สุขศรีพะเนา | AK69: 21 | AL69: 1030101004 | AM69: 16064 | AN69: เด็กหญิงปติมาภรณ์ กองอุดม | BC69: 22 | BD69: 1030101004 | BE69: 16078 | BF69: เด็กหญิงณัฐปภัสร์ ต้นกวาว | BU69: 22 | BV69: 1030101004 | BW69: 16094 | BX69: เด็กหญิงฐิตาพร ปุริมายะตา
A70: 23 | B70: 1030101004 | C70: 16035 | D70: เด็กหญิงอุไรวรรณ พรมนิ่ม | S70: 23 | T70: 1030101004 | U70: 16046 | V70: เด็กหญิงณัชชา รุ่งเรือง | AK70: 22 | AL70: 1030101004 | AM70: 16065 | AN70: เด็กหญิงปัณฑิตา เกิดสุข | BC70: 23 | BD70: 1030101004 | BE70: 16079 | BF70: เด็กหญิงธิติมา ปลั่งกลาง | BU70: 23 | BV70: 1030101004 | BW70: 16095 | BX70: เด็กหญิงณัฐสุดา สุนมนอก
A71: 24 | B71: 1030101004 | C71: 16036 | D71: เด็กหญิงอริสา ประกลาง | S71: 24 | T71: 1030101004 | U71: 16047 | V71: เด็กหญิงตรีเพชร อาจใจ | AK71: 23 | AL71: 1030101004 | AM71: 16066 | AN71: เด็กหญิงพฤษา หอจันทึก | BC71: 24 | BD71: 1030101004 | BE71: 16080 | BF71: เด็กหญิงปนัชญา วงษ์มา | BU71: 24 | BV71: 1030101004 | BW71: 16096 | BX71: เด็กหญิงนพัชนันต์ ยันกลาง
A72: 25 | B72: 1030101004 | C72: 16037 | D72: เด็กหญิงกัญญาณัฐ ตับกลาง | S72: 25 | T72: 1030101004 | U72: 16048 | V72: เด็กหญิงนภัสวรรณ ออสพรพันธ์ | AK72: 24 | AL72: 1030101004 | AM72: 16067 | AN72: เด็กหญิงพิชญาภา ทรัพย์จอหอ | BC72: 25 | BD72: 1030101004 | BE72: 16081 | BF72: เด็กหญิงปิยนุช พัตรากิจ | BU72: 25 | BV72: 1030101004 | BW72: 16097 | BX72: เด็กหญิงปรียาภรณ์ อินทร์โคกสูง
A73: 26 | B73: 1030101004 | C73: 16038 | D73: เด็กหญิงวีร์สุดา ตับกลาง | S73: 26 | T73: 1030101004 | U73: 16049 | V73: เด็กหญิงปวันรัตน์ จำปาโพธิ์ | AK73: 25 | AL73: 1030101004 | AM73: 16068 | AN73: เด็กหญิงภัทรวดี ชีโพธิ์ | BC73: 26 | BD73: 1030101004 | BE73: 16082 | BF73: เด็กหญิงพัฒน์พิมล เอกาไร | BU73: 26 | BV73: 1030101004 | BW73: 16098 | BX73: เด็กหญิงพรชนัน นิลด่านกลาง
A74: 27 | B74: 1030101004 | C74: 16039 | D74: เด็กหญิงณัฐนิชา พิมพา | S74: 27 | T74: 1030101004 | U74: 16050 | V74: เด็กหญิงพรรณวรท เขียนโพธิ์ | AK74: 26 | AL74: 1030101004 | AM74: 16069 | AN74: เด็กหญิงวาสินี ดอกทุเรียน | BC74: 27 | BD74: 1030101004 | BE74: 16084 | BF74: เด็กหญิงภัทราพร หากระวี | BU74: 27 | BV74: 1030101004 | BW74: 16099 | BX74: เด็กหญิงพัณณิตา จันแตง
A75: 28 | B75: 1030101004 | C75: 16040 | D75: เด็กหญิงอนันตญา จันทวีวัฒน์ | S75: 28 | T75: 1030101004 | U75: 16051 | V75: เด็กหญิงพิชชานันท์ คูณกลาง | AK75: 27 | AL75: 1030101004 | AM75: 16070 | AN75: เด็กหญิงศศิกานต์ ชื่นชม | BC75: 28 | BD75: 1030101004 | BE75: 16085 | BF75: เด็กหญิงวิรดา แทนกลาง | BV75: 1030101004 | BW75: 16100 | BX75: เด็กหญิงพิลดา ประดาศรี | BY75: ย้าย
A76: 29 | B76: 1030101004 | C76: 16173 | D76: เด็กหญิงปฏิญญาภรณ์ ศรีจันทร์อินทร์ | S76: 29 | T76: 1030101004 | U76: 16052 | V76: เด็กหญิงไพรินทร์ ขึงโพธิ์ | AK76: 28 | AL76: 1030101004 | AM76: 16071 | AN76: เด็กหญิงสุทธิดา สุวรรณสิงห์ | BC76: 29 | BD76: 1030101004 | BE76: 16086 | BF76: เด็กหญิงศิริลักษณ์ กินตะขบ | BU76: 28 | BV76: 1030101004 | BW76: 16101 | BX76: เด็กหญิงรัชนีกรณ์ บุตรโคตร
S77: 30 | T77: 1030101004 | U77: 16053 | V77: เด็กหญิงวศินี นวดกลาง | AK77: 29 | AL77: 1030101004 | AM77: 16072 | AN77: เด็กหญิงโสรยา ทับทอง | BC77: 30 | BD77: 1030101004 | BE77: 16087 | BF77: เด็กหญิงสุนิษา ปลั่งกลาง | BU77: 29 | BV77: 1030101004 | BW77: 16102 | BX77: เด็กหญิงวีรญา ป้อมเรือง
S78: 31 | T78: 1030101004 | U78: 16054 | V78: เด็กหญิงวีรดา ชะม้อยกลาง | AK78: 30 | AL78: 1030101004 | AM78: 16189 | AN78: เด็กหญิงนลินทิพย์ จั่วสันเทียะ | BC78: 31 | BD78: 1030101004 | BE78: 16088 | BF78: เด็กหญิงอภิชฎา ทวิชัย | BU78: 30 | BV78: 1030101004 | BW78: 16103 | BX78: เด็กหญิงศุภานัน ฤทธิ์จอหอ
S79: 32 | T79: 1030101004 | U79: 16055 | V79: เด็กหญิงสิรินดา ชาตรี | AK79: 31 | AL79: 1030101004 | AM79: 16402 | AN79: เด็กหญิงพัทธนันท์ อินอ่ำ | BC79: 32 | BD79: 1030101004 | BE79: 16398 | BF79: เด็กหญิงศิริวัฒนา ขออยู่กลาง | BU79: 31 | BV79: 1030101004 | BW79: 16399 | BX79: เด็กหญิงณิชานันท์ อินมี
S80: 33 | T80: 1030101004 | U80: 16056 | V80: เด็กหญิงสุวิชาดา บีพิมาย | AK80: 32 | AL80: 1030101004 | AM80: 16403 | AN80: เด็กหญิงสุนิตา กอบัวกลาง | BC80: 33 | BD80: 1030101004 | BE80: 16400 | BF80: เด็กหญิงณัฐกานต์ สุทธิจันทึก
A83: รายชื่อนักเรียนโรงเรียนมหิศราธิบดี ชั้นมัธยมศึกษาปีที่ 3/1 ปีการศึกษา 2568 | S83: รายชื่อนักเรียนโรงเรียนมหิศราธิบดี ชั้นมัธยมศึกษาปีที่ 3/2 ปีการศึกษา 2568 | AK83: รายชื่อนักเรียนโรงเรียนมหิศราธิบดี ชั้นมัธยมศึกษาปีที่ 3/3 ปีการศึกษา 2568 | BC83: รายชื่อนักเรียนโรงเรียนมหิศราธิบดี ชั้นมัธยมศึกษาปีที่ 3/4 ปีการศึกษา 2568
B84: คณะสี กรรณิการ์ | D84: จำนวนนักเรียน | E84: รวม | F84: 29 | G84: คน | J84: ชาย | K84: 9 | L84: คน | N84: หญิง | O84: =F84-K84 -> 20 | P84: คน | T84: คณะสี มะลิวัลย์ | V84: จำนวนนักเรียน | W84: รวม | X84: 41 | Y84: คน | AB84: ชาย | AC84: 16 | AD84: คน | AG84: หญิง | AH84: =SUM(X84-AC84) -> 25 | AI84: คน | AL84: คณะสี ราชาวดี | AN84: จำนวนนักเรียน | AO84: รวม | AP84: 36 | AQ84: คน | AT84: ชาย | AU84: 20 | AV84: คน | AY84: หญิง | AZ84: =SUM(AP84-AU84) -> 16 | BA84: คน | BD84: คณะสี ศรีตรัง | BF84: จำนวนนักเรียน | BH84: 42 | BI84: คน | BL84: ชาย | BM84: 18 | BN84: คน | BP84: หญิง | BQ84: =SUM(BH84-BM84) -> 24 | BR84: คน
B85: ครูที่ปรึกษา | C85: ก. | D85: ครูปิยะฉัตร ไกรกลาง | E85: ข. | F85: ครูสุวิมล ครองยุติ | T85: ครูที่ปรึกษา | U85: ก. | V85: ครูอ้อย บุญศรี | W85: ข. | X85: ครูนงค์นุช ปลั่งกลาง | AL85: ครูที่ปรึกษา | AM85: ก. | AN85: ครูรินทร์ลภัส เชาวน์ธนกิจ | AO85: ข. | AP85: ครูนันทวรรณ ข้อสูงเนิน | BD85: ครูที่ปรึกษา | BE85: ก. | BF85: ครูจริษา กล้าหาญ | BG85: ข.
A86: เลข | B86: เลข ปจต. | D86: ชื่อ - สกุล | S86: เลข | T86: เลข ปจต. | V86: ชื่อ - สกุล | AK86: เลข | AL86: เลข ปจต. | AN86: ชื่อ - สกุล | BC86: เลข | BD86: เลข ปจต. | BF86: ชื่อ - สกุล
A87: ที่ | B87: นักเรียน | S87: ที่ | T87: นักเรียน | AK87: ที่ | AL87: นักเรียน | BC87: ที่ | BD87: นักเรียน
A88: 1 | B88: 1030101004 | C88: 15691 | D88: เด็กชายชัชวัสส์ ปุ่นโพธิ์ | S88: 1 | T88: 1030101004 | U88: 15702 | V88: เด็กชายกรุณพล ใบโพธิ์ | AK88: 1 | AL88: 1030101004 | AM88: 15720 | AN88: เด็กชายชิษณุพงศ์ สุวรรณ์ | BC88: 1 | BD88: 1030101004 | BE88: 15745 | BF88: เด็กชายกิตติชัย แทนกลาง
A89: 2 | B89: 1030101004 | C89: 15694 | D89: เด็กชายนัทวัฒน์ เสือไธสง | S89: 2 | T89: 1030101004 | U89: 15703 | V89: เด็กชายกิตติภณ สุทธิประภา | AK89: 2 | AL89: 1030101004 | AM89: 15721 | AN89: เด็กชายณภัทร สานุสันต์ | BC89: 2 | BD89: 1030101004 | BE89: 15746 | BF89: เด็กชายเจริญชัย อุไรพงษ์
A90: 3 | B90: 1030101004 | C90: 15695 | D90: เด็กชายปรเมษฐ์ ศักดา | S90: 3 | T90: 1030101004 | U90: 15704 | V90: เด็กชายกิตติภูมิ วรวงค์ | AK90: 3 | AL90: 1030101004 | AM90: 15723 | AN90: เด็กชายธนพิสิฐ สร้อยสูงเนิน | BC90: 3 | BD90: 1030101004 | BE90: 15747 | BF90: เด็กชายฐิติวัฒน์ เพ็ชรสุข
A91: 4 | B91: 1030101004 | C91: 15696 | D91: เด็กชายพีรวิชญ์ เตรียมแรง | S91: 4 | T91: 1030101004 | U91: 15705 | V91: เด็กชายชาญณรงค์ ผาโพธิ์ | AK91: 4 | AL91: 1030101004 | AM91: 15724 | AN91: เด็กชายธนภัทร กุลอ่อน | BC91: 4 | BD91: 1030101004 | BE91: 15748 | BF91: เด็กชายเตชินญ์ ราชเจริญ
A92: 5 | B92: 1030101004 | C92: 15697 | D92: เด็กชายพีรวิชญ์ วิสีปัฒน์ | S92: 5 | T92: 1030101004 | U92: 15706 | V92: เด็กชายณัฏฐกิตติ์ กาฬเมฆ | AK92: 5 | AL92: 1030101004 | AM92: 15725 | AN92: เด็กชายธนสร ประจงค์ | BC92: 5 | BD92: 1030101004 | BE92: 15750 | BF92: นายธนกร คำบุญโฮม
A93: 6 | B93: 1030101004 | C93: 15698 | D93: เด็กชายภูมิสิทธิ์ โสนกลาง | S93: 6 | T93: 1030101004 | U93: 15707 | V93: เด็กชายธนกร ชื่นโพธิ์ | AK93: 6 | AL93: 1030101004 | AM93: 15726 | AN93: เด็กชายธีรชัย พรรัมย์ | BC93: 6 | BD93: 1030101004 | BE93: 15751 | BF93: เด็กชายธนบดี มามะเริง
A94: 7 | B94: 1030101004 | C94: 15699 | D94: เด็กชายภูวดล ศิลปชัย | S94: 7 | T94: 1030101004 | U94: 15708 | V94: เด็กชายธนวัฒน์ ชุ่มชื่น | AK94: 7 | AL94: 1030101004 | AM94: 15727 | AN94: เด็กชายธีรภัทร วาดไธสง | BC94: 7 | BD94: 1030101004 | BE94: 15752 | BF94: เด็กชายธนภัทร คบด่านกลาง
A95: 8 | B95: 1030101004 | C95: 15700 | D95: เด็กชายวริศ คำศรี | S95: 8 | T95: 1030101004 | U95: 15709 | V95: เด็กชายธนะพล ลิยีเก | AK95: 8 | AL95: 1030101004 | AM95: 15728 | AN95: เด็กชายธีระวัฒน์ แทนกลาง | BC95: 8 | BD95: 1030101004 | BE95: 15753 | BF95: เด็กชายธาวิน บุญศรีติรัตน์
A96: 9 | B96: 1030101004 | C96: 15701 | D96: เด็กชายอัครวินท์ หินกลาง | S96: 9 | T96: 1030101004 | U96: 15711 | V96: เด็กชายปณิธิ เสนนอก | AL96: 1030101004 | AM96: 15731 | AN96: เด็กชายพีระพงศ์ คานมะโน | AO96: ย้าย | BC96: 9 | BD96: 1030101004 | BE96: 15754 | BF96: เด็กชายธีรเดช ณ พิมาย
A97: 10 | B97: 1030101004 | C97: 15766 | D97: เด็กหญิงกุลวรัชดา สุริวงษ์ | S97: 10 | T97: 1030101004 | U97: 15712 | V97: เด็กชายภัทรพล รัตนรักษ์ | AK97: 9 | AL97: 1030101004 | AM97: 15732 | AN97: เด็กชายภานุ จอดนอก | BC97: 10 | BD97: 1030101004 | BE97: 15755 | BF97: เด็กชายนพรัตน์ น้อยสิมา
A98: 11 | B98: 1030101004 | C98: 15768 | D98: เด็กหญิงจิรัชญา มาทา | S98: 11 | T98: 1030101004 | U98: 15713 | V98: เด็กชายรฐนนท์ กาสินครบุรี | AK98: 10 | AL98: 1030101004 | AM98: 15733 | AN98: เด็กชายภูรี พงษ์วสวัตติ์ | BC98: 11 | BD98: 1030101004 | BE98: 15756 | BF98: เด็กชายนัทธชัย ศักดาเดช
A99: 12 | B99: 1030101004 | C99: 15769 | D99: เด็กหญิงชนิดาภา ไพโรจน์วิทยาภรณ์ | S99: 12 | T99: 1030101004 | U99: 15714 | V99: เด็กชายรณกร ชาวพลกรัง | AK99: 11 | AL99: 1030101004 | AM99: 15736 | AN99: เด็กชายวัชรพล จำปาโพธิ์ | BC99: 12 | BD99: 1030101004 | BE99: 15757 | BF99: เด็กชายนิธิศภูมิ ถวัลย์วีระวงศ์
A100: 13 | B100: 1030101004 | C100: 15770 | D100: เด็กหญิงชัชฎาพร กาญจนสีมา | S100: 13 | T100: 1030101004 | U100: 15715 | V100: เด็กชายวรวัฒน์ เกินกลาง | AK100: 12 | AL100: 1030101004 | AM100: 15737 | AN100: เด็กชายวิชยุตม์ นารี | BC100: 13 | BD100: 1030101004 | BE100: 15758 | BF100: เด็กชายปัณณวิชญ์ ปวงกลาง
A101: 14 | B101: 1030101004 | C101: 15772 | D101: เด็กหญิงฑิฆัมพร กลิ่นโนนสูง | S101: 14 | T101: 1030101004 | U101: 15716 | V101: เด็กชายอติรุจ ป้องขันธ์ | AK101: 13 | AL101: 1030101004 | AM101: 15738 | AN101: เด็กชายวิชาญ ผินโพธิ์ | BC101: 14 | BD101: 1030101004 | BE101: 15759 | BF101: เด็กชายพชรพล ศิริจันดา
A102: 15 | B102: 1030101004 | C102: 15773 | D102: เด็กหญิงณัฐณิชา ก้อยจะบก | S102: 15 | T102: 1030101004 | U102: 15717 | V102: เด็กชายอนัญฐชัย ชำนาญไพร | AK102: 14 | AL102: 1030101004 | AM102: 15740 | AN102: เด็กชายวีรภาพ ธาราวาสน์ | BC102: 15 | BD102: 1030101004 | BE102: 15761 | BF102: เด็กชายวุฒธการ พรมรินทร์
A103: 16 | B103: 1030101004 | C103: 15774 | D103: เด็กหญิงณัฐนรี ชัยมาคำ | S103: 16 | T103: 1030101004 | U103: 15718 | V103: เด็กชายอนันต์ คำไทยกลาง | AK103: 15 | AL103: 1030101004 | AM103: 15741 | AN103: เด็กชายวีระศักดิ์ แทนกลาง | BC103: 16 | BD103: 1030101004 | BE103: 15763 | BF103: เด็กชายสิรธีร์ ไขโพธิ์
A104: 17 | B104: 1030101004 | C104: 15775 | D104: เด็กหญิงณัฐวลัย ขำโพธิ์ | S104: 17 | T104: 1030101004 | U104: 15789 | V104: เด็กหญิงเขมิกา บ้วนกลาง | AK104: 16 | AL104: 1030101004 | AM104: 15742 | AN104: เด็กชายศุภณัฐ ขิงโพธิ์ | BC104: 17 | BD104: 1030101004 | BE104: 15764 | BF104: เด็กชายสุรศักดิ์ กรองกลาง
A105: 18 | B105: 1030101004 | C105: 15776 | D105: เด็กหญิงณิชกานต์ อินทรกำแหง | S105: 18 | T105: 1030101004 | U105: 15790 | V105: เด็กหญิงจรรยาพร คุ้มจอหอ | AK105: 17 | AL105: 1030101004 | AM105: 15743 | AN105: เด็กชายอนพ ปัณฑรางกูร | BC105: 18 | BD105: 1030101004 | BE105: 16111 | BF105: เด็กชายพงศ์ภัค ชุ่มกระโทก
A106: 19 | B106: 1030101004 | C106: 15778 | D106: เด็กหญิงปัณฑิตา จำปาโพธิ์ | S106: 19 | T106: 1030101004 | U106: 15791 | V106: เด็กหญิงจิดาภา จงพึ่งกลาง | AK106: 18 | AL106: 1030101004 | AM106: 15939 | AN106: เด็กชายอติเชษฐ์ ชุมพล | BC106: 19 | BD106: 1030101004 | BE106: 15836 | BF106: เด็กหญิงกัณฐิกา ปราบงูเหลือม
A107: 20 | B107: 1030101004 | C107: 15779 | D107: เด็กหญิงปัณฑิตา จีบโพธิ์ | S107: 20 | T107: 1030101004 | U107: 15792 | V107: เด็กหญิงจิรภิญญา ชูชีพ | AK107: 19 | AL107: 1030101004 | AM107: 16182 | AN107: เด็กชายกนกพันธ์ เริงสนาม | BC107: 20 | BD107: 1030101004 | BE107: 15837 | BF107: เด็กหญิงกัลยกร วงศ์ภักดี
A108: 21 | B108: 1030101004 | C108: 15780 | D108: เด็กหญิงปิยะฉัตร จีบโพธิ์ | S108: 21 | T108: 1030101004 | U108: 15793 | V108: เด็กหญิงดารนีนุช เพียขันทา | AK108: 20 | AL108: 1030101004 | AM108: 15816 | AN108: เด็กหญิงกัญญารัตน์ เพิ่มพูน | BC108: 21 | BD108: 1030101004 | BE108: 15838 | BF108: เด็กหญิงกานต์ณิชา สิทธิ์เสือ
A109: 22 | B109: 1030101004 | C109: 15781 | D109: เด็กหญิงภัสริยาภร นิจจอหอ | S109: 22 | T109: 1030101004 | U109: 15794 | V109: เด็กหญิงธัญชนก สุกใส | AK109: 21 | AL109: 1030101004 | AM109: 15818 | AN109: เด็กหญิงณัฐธิดา แดงคำ | BC109: 22 | BD109: 1030101004 | BE109: 15839 | BF109: เด็กหญิงเกสรา พลภักดี
A110: 23 | B110: 1030101004 | C110: 15782 | D110: เด็กหญิงรุศดา นาครินทร์ | S110: 23 | T110: 1030101004 | U110: 15795 | V110: เด็กหญิงนันท์นภัส ชื่นโพธิ์ | AK110: 22 | AL110: 1030101004 | AM110: 15819 | AN110: เด็กหญิงปทุมทิพย์ จงจอหอ | BC110: 23 | BD110: 1030101004 | BE110: 15840 | BF110: เด็กหญิงจรินภรณ์ กิ่งโพธิ์
...

Sheet Sheet2
A1: ที่ | C1: ชื่อสกุล | D1: ชั้น | E1: สาเหตุ
A2: 1 | B2: 15692 | C2: เด็กชายณัฏฐกิตติ์ แสนสันเทียะ | D2: 2/1 | E2: ขาดเรียนนาน
A3: 2 | B3: 15739 | C3: เด็กชายวิวัฒชัย ปลั่งกลาง | D3: 2/3 | E3: ขาดเรียนนาน
A4: 1 | B4: 15477 | C4: นางสาวชลธิชา อานประโคน | D4: 4/2 | E4: ลาออก ไม่ศึกษาต่อ
A5: 2 | B5: 16175 | C5: นางสาวธันยธรณ์ แดงสม | D5: 4/2 | E5: ลาออก ไม่ศึกษาต่อ
A6: 3 | B6: 15339 | C6: นางสาวศศิชา ปลั่งกลาง | D6: 4/3 | E6: ลาออก ไม่ศึกษาต่อ
A7: 4 | B7: 15344 | C7: นางสาวกชนันท์ ลุนจันทา | D7: 4/3 | E7: ลาออก ไม่ศึกษาต่อ
A8: 5 | B8: 16147 | C8: นางสาวพัชราภา วังกลาง | D8: 4/3 | E8: ลาออก ไม่ศึกษาต่อ
A9: 6 | B9: 15215 | C9: นายยศกร ขำโพธิ์ | D9: 4/4 | E9: ลาออก ไม่ศึกษาต่อ
A10: 7 | B10: 15219 | C10: นายนพพล งามโพธิ์ | D10: 4/4 | E10: ลาออก ไม่ศึกษาต่อ
A11: 8 | B11: 15221 | C11: นายอนุศิษฏ์ บัวกลาง | D11: 4/4 | E11: ลาออก ไม่ศึกษาต่อ
A12: 9 | B12: 15231 | C12: นายธนชาติ ช้างแดง | D12: 4/4 | E12: ลาออก ไม่ศึกษาต่อ
A13: 10 | B13: 15232 | C13: นายธนวัต กลอนกลาง | D13: 4/4 | E13: ลาออก ไม่ศึกษาต่อ
A14: 11 | B14: 15254 | C14: นายณัฐนนท์ โอษฐสู | D14: 4/4 | E14: ลาออก ไม่ศึกษาต่อ
A15: 12 | B15: 16110 | C15: นายชัชวาลย์ สวาสโพธิ์กลาง | D15: 4/4 | E15: ลาออก ไม่ศึกษาต่อ
... A34: 6 | B34: 15002 | C34: นายธนวัฒน์ อ้วนสันเทียะ | D34: 5/4 | E34: ลาออก ไม่ศึกษาต่อ
A35: 7 | B35: 14701 | C35: นายธนพัฒน์ กำพุฒกลาง | D35: 5/5 | E35: ลาออก ไม่ศึกษาต่อ
A36: 8 | B36: 14937 | C36: นายอดิเรก นิลมะเริง | D36: 5/5 | E36: ลาออก ไม่ศึกษาต่อ
A37: 9 | B37: 14977 | C37: นายภานุวัฒน์ จอยไธสง | D37: 5/5 | E37: ลาออก ไม่ศึกษาต่อ

Sheet Sheet4
A1: ชั้น | B1: จำนวนนักเรียน
B2: ยอดจริง | C2: DMC (ยอดสิ้นปีการศึกษา)
A3: ม.1 | B3: 154 | C3: -
A4: ม.2 | B4: 152 | C4: 152
A5: ม.3 | B5: 148 | C5: 150
A6: ม.4 | B6: 137 | C6: -
A7: ม.5 | B7: 136 | C7: 160
A8: ม.6 | B8: 165 | C8: 174
A9: รวม | B9: =SUM(B3:B8) -> 892 | C9: =SUM(C3:C8) -> 636
